BEGIN:VCALENDAR
VERSION:2.0
PRODID:-//Injury Matters - ECPv6.15.20//NONSGML v1.0//EN
CALSCALE:GREGORIAN
METHOD:PUBLISH
X-WR-CALNAME:Injury Matters
X-ORIGINAL-URL:https://www.injurymatters.org.au
X-WR-CALDESC:Events for Injury Matters
REFRESH-INTERVAL;VALUE=DURATION:PT1H
X-Robots-Tag:noindex
X-PUBLISHED-TTL:PT1H
BEGIN:VTIMEZONE
TZID:Australia/Perth
BEGIN:STANDARD
TZOFFSETFROM:+0800
TZOFFSETTO:+0800
TZNAME:AWST
DTSTART:20240101T000000
END:STANDARD
END:VTIMEZONE
BEGIN:VEVENT
DTSTART;TZID=Australia/Perth:20250529T100000
DTEND;TZID=Australia/Perth:20250529T140000
DTSTAMP:20260422T114646
CREATED:20250410T005234Z
LAST-MODIFIED:20250410T005234Z
UID:16471-1748512800-1748527200@www.injurymatters.org.au
SUMMARY:Let’s Connect at a Community Event in Busselton!
DESCRIPTION:The Stay On Your Feet® team is passionate about helping you live your best life through providing information on falls prevention and healthy\, active ageing. \nYour health\, independence\, and quality of life matter\, and we’re here to support you through sharing our valuable resources. \nCome and have a chat with us at this community event and discover proven ways to Stay On Your Feet® and learn about the importance of Staying Active by Moving Your Body with our presentation at 10.35am. \nConsumer Protection WA presents:\nSeniors Connect Busselton\nDate:  Thursday\, May 29\nTime:  10am-2pm\nLocation: Undalup Room\, City of Busselton Building\, 2 Southern Drive\, Busselton \nFor further information and to register contact: 08 6552 9895 or visit Seniors Connect Eventbrite Booking \nDownload the flyer: Seniors Connect Busselton
URL:https://www.injurymatters.org.au/event/lets-connect-at-a-community-event-in-busselton/
LOCATION:City of Busselton Building\, Undalup Room\, 2 Southern Drive\, Busselton\, WA\, 6230\, Australia
CATEGORIES:Stay On Your Feet
ATTACH;FMTTYPE=image/jpeg:https://www.injurymatters.org.au/wp-content/uploads/2025/01/220527_SOYF_BeaumontOpenDay4.jpg
END:VEVENT
END:VCALENDAR