BEGIN:VCALENDAR
VERSION:2.0
PRODID:-//Injury Matters - ECPv6.15.20//NONSGML v1.0//EN
CALSCALE:GREGORIAN
METHOD:PUBLISH
X-WR-CALNAME:Injury Matters
X-ORIGINAL-URL:https://www.injurymatters.org.au
X-WR-CALDESC:Events for Injury Matters
REFRESH-INTERVAL;VALUE=DURATION:PT1H
X-Robots-Tag:noindex
X-PUBLISHED-TTL:PT1H
BEGIN:VTIMEZONE
TZID:Australia/Perth
BEGIN:STANDARD
TZOFFSETFROM:+0800
TZOFFSETTO:+0800
TZNAME:AWST
DTSTART:20240101T000000
END:STANDARD
END:VTIMEZONE
BEGIN:VEVENT
DTSTART;TZID=Australia/Perth:20250610T100000
DTEND;TZID=Australia/Perth:20250610T140000
DTSTAMP:20260422T100603
CREATED:20250409T060916Z
LAST-MODIFIED:20250605T071516Z
UID:16428-1749549600-1749564000@www.injurymatters.org.au
SUMMARY:Let’s Connect at a Community Event in Whitfords!
DESCRIPTION:The Stay On Your Feet® team is passionate about helping you live your best life through providing information on falls prevention and healthy\, active ageing. \nYour health\, independence\, and quality of life matter\, and we’re here to support you through sharing our valuable resources. \nCome and have a chat with us at this community event and discover proven ways to Stay On Your Feet®. \nThe City of Joondalup presents:\nSeniors Lifestyle Expo 2025\nDate:  Tuesday\, 10 June\nTime:  10am-2pm\nLocation: Westfield Whitford City (near Coles)\, Corner of Marmion and Whitfords Avenue\, Hillarys \nFree Event \nFor further information contact The City of Joondalup on 9400 4000 \nSeniors Lifestyle Expo 2025 Flyer
URL:https://www.injurymatters.org.au/event/lets-connect-at-a-community-event-in-whitfords/
LOCATION:Whitfords Shopping Centre\, Corner of Marmion and Whitfords Avenue\, Whitfords\, WA\, Australia
CATEGORIES:Stay On Your Feet
ATTACH;FMTTYPE=image/jpeg:https://www.injurymatters.org.au/wp-content/uploads/2025/01/220527_SOYF_BeaumontOpenDay4.jpg
END:VEVENT
BEGIN:VEVENT
DTSTART;TZID=Australia/Perth:20250618T100000
DTEND;TZID=Australia/Perth:20250618T140000
DTSTAMP:20260422T100603
CREATED:20250409T061443Z
LAST-MODIFIED:20250409T080903Z
UID:16432-1750240800-1750255200@www.injurymatters.org.au
SUMMARY:Let’s Connect at a Community Event in Rockingham!
DESCRIPTION:The Stay On Your Feet® team is passionate about helping you live your best life through providing information on falls prevention and healthy\, active ageing. \nYour health\, independence\, and quality of life matter\, and we’re here to support you through sharing our valuable resources. \nCome and have a chat with us at this community event and discover proven ways to Stay On Your Feet®. \nThe City of Rockingham presents:\nSeniors Safety Morning Tea\nDate:  Wednesday\, 18 June\nTime:  10am-12pm\nLocation: Gary Holland Centre\, 19 Kent Street\, Rockingham \nFree event and morning tea. \nFor further information and to book contact the City of Rockingham on 9528 0333 or customer@rockingham.wa.gov.au
URL:https://www.injurymatters.org.au/event/lets-connect-at-a-community-event-in-rockingham-2/
LOCATION:Gary Holland Centre\, 19 Kent Street\, Rockingham\, WA\, Australia
CATEGORIES:Stay On Your Feet
ATTACH;FMTTYPE=image/jpeg:https://www.injurymatters.org.au/wp-content/uploads/2025/01/220527_SOYF_BeaumontOpenDay4.jpg
END:VEVENT
END:VCALENDAR