BEGIN:VCALENDAR
VERSION:2.0
PRODID:-//Injury Matters - ECPv6.15.20//NONSGML v1.0//EN
CALSCALE:GREGORIAN
METHOD:PUBLISH
X-ORIGINAL-URL:https://www.injurymatters.org.au
X-WR-CALDESC:Events for Injury Matters
REFRESH-INTERVAL;VALUE=DURATION:PT1H
X-Robots-Tag:noindex
X-PUBLISHED-TTL:PT1H
BEGIN:VTIMEZONE
TZID:Australia/Perth
BEGIN:STANDARD
TZOFFSETFROM:+0800
TZOFFSETTO:+0800
TZNAME:AWST
DTSTART:20220101T000000
END:STANDARD
END:VTIMEZONE
BEGIN:VEVENT
DTSTART;TZID=Australia/Perth:20230606T100000
DTEND;TZID=Australia/Perth:20230606T110000
DTSTAMP:20260425T183259
CREATED:20230317T065608Z
LAST-MODIFIED:20230317T065608Z
UID:9591-1686045600-1686049200@www.injurymatters.org.au
SUMMARY:Keeping dementia in mind: preventing falls by creating dementia-friendly homes
DESCRIPTION:With a growing ageing population\, it is predicted that the number of Australians with dementia will more than double by 2058. With older adults opting to live independently in their homes for longer\, it’s important for health professionals to be aware of dementia-friendly environments for those who are at a higher risk of falls and therefore injury. Join Injury Matters\, via the Stay On Your Feet® program\, in this one-hour webinar with returning guest speaker Nick Seemann from Dementia Training Australia\, and Liz Fuggle from Constructive Dialogues Architects\, who will present key aspects to consider when advocating for dementia-friendly homes for older adults. \nRegister here \nThis webinar aims to: \n\nIncreased knowledge of environmental risk factors among older adults living with dementia.\nIncreased awareness of ways to support and assist clients with dementia in their homes.\nIncreased confidence in accessing relevant resources and referring older adults with dementia to appropriate services and health professionals.\n\nWho should attend? \nThis webinar is suitable for Physiotherapists\, Exercise Physiologists\, Occupational Therapists\, Social Workers\, Aged care workers and carers.
URL:https://www.injurymatters.org.au/event/keeping-dementia-in-mind-preventing-falls-by-creating-dementia-friendly-homes/
LOCATION:Online
ATTACH;FMTTYPE=image/jpeg:https://www.injurymatters.org.au/wp-content/uploads/2023/03/Back-of-older-womans-head-gray-hair.jpg
ORGANIZER;CN="Stay On Your Feet%C2%AE":MAILTO:info@injurymatters.org.au
END:VEVENT
END:VCALENDAR