BEGIN:VCALENDAR
VERSION:2.0
PRODID:-//Injury Matters - ECPv6.15.20//NONSGML v1.0//EN
CALSCALE:GREGORIAN
METHOD:PUBLISH
X-WR-CALNAME:Injury Matters
X-ORIGINAL-URL:https://www.injurymatters.org.au
X-WR-CALDESC:Events for Injury Matters
REFRESH-INTERVAL;VALUE=DURATION:PT1H
X-Robots-Tag:noindex
X-PUBLISHED-TTL:PT1H
BEGIN:VTIMEZONE
TZID:Australia/Perth
BEGIN:STANDARD
TZOFFSETFROM:+0800
TZOFFSETTO:+0800
TZNAME:AWST
DTSTART:20240101T000000
END:STANDARD
END:VTIMEZONE
BEGIN:VEVENT
DTSTART;TZID=Australia/Perth:20250507T100000
DTEND;TZID=Australia/Perth:20250507T133000
DTSTAMP:20260422T120707
CREATED:20250326T064332Z
LAST-MODIFIED:20250326T064332Z
UID:16226-1746612000-1746624600@www.injurymatters.org.au
SUMMARY:Let’s Connect at a Community Event in Belmont!
DESCRIPTION:The Stay On Your Feet® team is passionate about helping you live your best life through providing information on falls prevention and healthy\, active ageing. \nYour health\, independence\, and quality of life matter\, and we’re here to support you through sharing our valuable resources. \nCome and have a chat with us at this community event and discover proven ways to Stay On Your Feet®. \nSeniors Recreation Council of WA presents:\nLiveLighter Seniors Activity/Information Day\n\nDate:  Wednesday\, May 7th\nTime:  10am-1.30pm\nLocation: Belmont Oasis\, Progress Way\, Belmont \nFree event includes refreshments and lunch – BOOKINGS ESSENTIAL \nFor further information and bookings for LiveLighter Seniors Day contact: Dawn Yates – 6118 2718 – dawn.yates@srcwa.asn.au \n  \n \n 
URL:https://www.injurymatters.org.au/event/lets-connect-at-a-community-event-in-belmont/
LOCATION:Belmont Oasis\, Progress Way\, Belmont\, WA\, Australia
CATEGORIES:Stay On Your Feet
ATTACH;FMTTYPE=image/jpeg:https://www.injurymatters.org.au/wp-content/uploads/2025/01/220527_SOYF_BeaumontOpenDay4.jpg
END:VEVENT
BEGIN:VEVENT
DTSTART;TZID=Australia/Perth:20250513T100000
DTEND;TZID=Australia/Perth:20250513T130000
DTSTAMP:20260422T120707
CREATED:20250429T035407Z
LAST-MODIFIED:20250429T035407Z
UID:16581-1747130400-1747141200@www.injurymatters.org.au
SUMMARY:Let’s Connect at a Community Event in Armadale!
DESCRIPTION:The Stay On Your Feet® team is passionate about helping you live your best life through providing information on falls prevention and healthy\, active ageing. \nYour health\, independence\, and quality of life matter\, and we’re here to support you through sharing our valuable resources. \nCome and have a chat with us at this community event and discover proven ways to Stay On Your Feet®. \nThe City of Armadale and BreastScreen WA presents:\nArmadale Women’s Health and Wellbeing Day\nDate:  Tuesday\, May 13\nTime:  10am-1pm\nLocation: The Champion Centre\, 76 Champion Drive\, Seville Grove \nA variety of stalls\, health checks\, activities\, food and drinks available on the day. Enjoy these\, morning tea and more for FREE! \n   
URL:https://www.injurymatters.org.au/event/lets-connect-at-a-community-event-in-armadale-2/
LOCATION:Champion Centre\, 76 Champion Drive\, Seville Grove\, WA\, Australia
CATEGORIES:Stay On Your Feet
ATTACH;FMTTYPE=image/jpeg:https://www.injurymatters.org.au/wp-content/uploads/2025/01/220527_SOYF_BeaumontOpenDay4.jpg
END:VEVENT
BEGIN:VEVENT
DTSTART;TZID=Australia/Perth:20250516T100000
DTEND;TZID=Australia/Perth:20250516T130000
DTSTAMP:20260422T120707
CREATED:20250326T064528Z
LAST-MODIFIED:20250326T073323Z
UID:16230-1747389600-1747400400@www.injurymatters.org.au
SUMMARY:Let’s Connect at a Community Event in Leederville!
DESCRIPTION:The Stay On Your Feet® team is passionate about helping you live your best life through providing information on falls prevention and healthy\, active ageing. \nYour health\, independence\, and quality of life matter\, and we’re here to support you through sharing our valuable resources. \nCome and have a chat with us at this community event and discover proven ways to Stay On Your Feet®. \nSeniors Recreation Council of WA presents:\nLiveLighter Seniors Activity/Information Day\n\nDate:  Friday\, May 16th\nTime:  10am-1.00pm\nLocation: Vincent Community Centre\, 99 Loftus Centre\, Leederville \nFree event includes refreshments and lunch – BOOKINGS ESSENTIAL \nFor further information and bookings for LiveLighter Seniors Day contact: Dawn Yates – 6118 2718 – dawn.yates@srcwa.asn.au \n  \n \n 
URL:https://www.injurymatters.org.au/event/lets-connect-at-a-community-event-in-leederville/
LOCATION:Vincent Community Centre\, 99 Loftus Street\, Leederville\, WA\, 6007\, Australia
CATEGORIES:Stay On Your Feet
ATTACH;FMTTYPE=image/jpeg:https://www.injurymatters.org.au/wp-content/uploads/2025/01/220527_SOYF_BeaumontOpenDay4.jpg
END:VEVENT
BEGIN:VEVENT
DTSTART;TZID=Australia/Perth:20250520T100000
DTEND;TZID=Australia/Perth:20250520T110000
DTSTAMP:20260422T120707
CREATED:20250410T052607Z
LAST-MODIFIED:20250410T052607Z
UID:16493-1747735200-1747738800@www.injurymatters.org.au
SUMMARY:'We Care About Falls' with Melville Cares
DESCRIPTION:The Injury Matters team are excited to partner with Melville Cares for their “We Care About Falls” education month this May.  Melville Cares are hosting three informative events for preventing falls as well as tips and tools to stay active\, confident and on your feet. \n\nMay 6 – Cognition and Falls – how your mind controls your body movements and what to do when things aren’t working well.\nMay 13 – Anxiety Management and Sleep Hygiene – discover strategies from an Occupational Therapy perspective.\nMay 20 – Stay On Your Feet(R) Remove Hazards presentation\, with morning tea included.  Discover ways to manage hazards around your home\, the importance of  maintaining healthy feet and discussing how vision can change as we get older.\n\nRemove Hazards Presentation: Tuesday\, May 20\nTime: 10am-11am\nWhere: Melville Leisure Centre\, 431 Canning Highway\, Melville \nCost: Free\, but registrations required \nTo book your free place phone:  9319 0900 or email: info@melvillecares.org.au
URL:https://www.injurymatters.org.au/event/we-care-about-falls-with-melville-cares/
LOCATION:Melville Leisurefit\, 431 Canning Highway\, Melville\, WA\, 6156\, Australia
CATEGORIES:Stay On Your Feet
ATTACH;FMTTYPE=image/jpeg:https://www.injurymatters.org.au/wp-content/uploads/2025/04/Home-door-mat.jpeg
END:VEVENT
BEGIN:VEVENT
DTSTART;TZID=Australia/Perth:20250529T100000
DTEND;TZID=Australia/Perth:20250529T140000
DTSTAMP:20260422T120707
CREATED:20250409T060241Z
LAST-MODIFIED:20250409T060241Z
UID:16422-1748512800-1748527200@www.injurymatters.org.au
SUMMARY:Let’s Connect at a Community Event in Subiaco!
DESCRIPTION:The Stay On Your Feet® team is passionate about helping you live your best life through providing information on falls prevention and healthy\, active ageing. \nYour health\, independence\, and quality of life matter\, and we’re here to support you through sharing our valuable resources. \nCome and have a chat with us at this community event and discover proven ways to Stay On Your Feet®. \nThe City of Subiaco presents:\nPositive Ageing Expo 2025\nDate:  Thursday\, May 29\nTime:  10am-2pm\nLocation: The Third Place\, 325 Barker Road\, Subiaco \nFor further information contact The City of Subiaco: 9237 9222 \n 
URL:https://www.injurymatters.org.au/event/lets-connect-at-a-community-event-in-subiaco/
LOCATION:The Third Place\, 325 Barker Road\, Subiaco\, WA\, 6008\, Australia
CATEGORIES:Stay On Your Feet
ATTACH;FMTTYPE=image/jpeg:https://www.injurymatters.org.au/wp-content/uploads/2025/01/220527_SOYF_BeaumontOpenDay4.jpg
END:VEVENT
BEGIN:VEVENT
DTSTART;TZID=Australia/Perth:20250529T100000
DTEND;TZID=Australia/Perth:20250529T140000
DTSTAMP:20260422T120707
CREATED:20250410T005234Z
LAST-MODIFIED:20250410T005234Z
UID:16471-1748512800-1748527200@www.injurymatters.org.au
SUMMARY:Let’s Connect at a Community Event in Busselton!
DESCRIPTION:The Stay On Your Feet® team is passionate about helping you live your best life through providing information on falls prevention and healthy\, active ageing. \nYour health\, independence\, and quality of life matter\, and we’re here to support you through sharing our valuable resources. \nCome and have a chat with us at this community event and discover proven ways to Stay On Your Feet® and learn about the importance of Staying Active by Moving Your Body with our presentation at 10.35am. \nConsumer Protection WA presents:\nSeniors Connect Busselton\nDate:  Thursday\, May 29\nTime:  10am-2pm\nLocation: Undalup Room\, City of Busselton Building\, 2 Southern Drive\, Busselton \nFor further information and to register contact: 08 6552 9895 or visit Seniors Connect Eventbrite Booking \nDownload the flyer: Seniors Connect Busselton
URL:https://www.injurymatters.org.au/event/lets-connect-at-a-community-event-in-busselton/
LOCATION:City of Busselton Building\, Undalup Room\, 2 Southern Drive\, Busselton\, WA\, 6230\, Australia
CATEGORIES:Stay On Your Feet
ATTACH;FMTTYPE=image/jpeg:https://www.injurymatters.org.au/wp-content/uploads/2025/01/220527_SOYF_BeaumontOpenDay4.jpg
END:VEVENT
END:VCALENDAR