BEGIN:VCALENDAR
VERSION:2.0
PRODID:-//Injury Matters - ECPv6.15.20//NONSGML v1.0//EN
CALSCALE:GREGORIAN
METHOD:PUBLISH
X-ORIGINAL-URL:https://www.injurymatters.org.au
X-WR-CALDESC:Events for Injury Matters
REFRESH-INTERVAL;VALUE=DURATION:PT1H
X-Robots-Tag:noindex
X-PUBLISHED-TTL:PT1H
BEGIN:VTIMEZONE
TZID:Australia/Perth
BEGIN:STANDARD
TZOFFSETFROM:+0800
TZOFFSETTO:+0800
TZNAME:AWST
DTSTART:20240101T000000
END:STANDARD
END:VTIMEZONE
BEGIN:VEVENT
DTSTART;TZID=Australia/Perth:20250228T093000
DTEND;TZID=Australia/Perth:20250228T120000
DTSTAMP:20260422T155827
CREATED:20250123T052359Z
LAST-MODIFIED:20250225T025820Z
UID:15777-1740735000-1740744000@www.injurymatters.org.au
SUMMARY:Let’s Connect at a Community Event in Byford!!
DESCRIPTION:The Stay On Your Feet® team is passionate about helping you live your best life through providing information on falls prevention and healthy\, active ageing. \nYour health\, independence\, and quality of life matter\, and we’re here to support you through sharing our valuable resources. \nCome and have a chat with us at this community event and discover proven ways to Stay On Your Feet®. \nSeniors Recreation Council of WA: Healthy Lifestyles Byford\nDate:  Friday\, February 28\nTime:  9.30am-12.00pm\nLocation: Serpentine-Jarrahdale Recreation Centre\, Mead Street\, Byford \nRegistrations and further information about SRCWA Healthy Lifestyles Byford contact:  08 6118 2716 \n \nSRCWA Healthy Lifestyles Event Flyer
URL:https://www.injurymatters.org.au/event/lets-connect-at-a-community-event-in-byford/
LOCATION:Serpentine-Jarrahdale Recreation Centre\, Mead Street\, Byford\, WA\, Australia
CATEGORIES:Stay On Your Feet
ATTACH;FMTTYPE=image/jpeg:https://www.injurymatters.org.au/wp-content/uploads/2025/01/220527_SOYF_BeaumontOpenDay4.jpg
END:VEVENT
END:VCALENDAR