BEGIN:VCALENDAR
VERSION:2.0
PRODID:-//Injury Matters - ECPv6.15.20//NONSGML v1.0//EN
CALSCALE:GREGORIAN
METHOD:PUBLISH
X-WR-CALNAME:Injury Matters
X-ORIGINAL-URL:https://www.injurymatters.org.au
X-WR-CALDESC:Events for Injury Matters
REFRESH-INTERVAL;VALUE=DURATION:PT1H
X-Robots-Tag:noindex
X-PUBLISHED-TTL:PT1H
BEGIN:VTIMEZONE
TZID:Australia/Perth
BEGIN:STANDARD
TZOFFSETFROM:+0800
TZOFFSETTO:+0800
TZNAME:AWST
DTSTART:20240101T000000
END:STANDARD
END:VTIMEZONE
BEGIN:VEVENT
DTSTART;TZID=Australia/Perth:20250402T100000
DTEND;TZID=Australia/Perth:20250402T140000
DTSTAMP:20260422T123059
CREATED:20250306T012437Z
LAST-MODIFIED:20250306T012437Z
UID:15887-1743588000-1743602400@www.injurymatters.org.au
SUMMARY:Let’s Connect at a Community Event in Rockingham!
DESCRIPTION:The Stay On Your Feet® team is passionate about helping you live your best life through providing information on falls prevention and healthy\, active ageing. \nYour health\, independence\, and quality of life matter\, and we’re here to support you through sharing our valuable resources. \nCome and have a chat with us at this community event and discover proven ways to Stay On Your Feet®. \nSeniors Recreation Council of WA: Have A Go Day Rockingham\nDate:  Wednesday\, April 2\nTime:  10am-2pm\nLocation: Mike Barnett Sports Complex\, Cnr Dixon Road and Goddard Street\, Rockingham \nFor further information about SRCWA Have A Go Day Rockingham contact:  08 6118 2716 \nDownload SRCWA Flyer
URL:https://www.injurymatters.org.au/event/lets-connect-at-a-community-event-in-rockingham/
LOCATION:Mike Barnett Sports Complex\, Cnr Dixon Road and Goddard Street\, Roockingham\, WA\, Australia
CATEGORIES:Stay On Your Feet
ATTACH;FMTTYPE=image/jpeg:https://www.injurymatters.org.au/wp-content/uploads/2025/01/220527_SOYF_BeaumontOpenDay4.jpg
END:VEVENT
BEGIN:VEVENT
DTSTART;TZID=Australia/Perth:20250403T100000
DTEND;TZID=Australia/Perth:20250403T130000
DTSTAMP:20260422T123059
CREATED:20250306T013437Z
LAST-MODIFIED:20250306T032616Z
UID:16088-1743674400-1743685200@www.injurymatters.org.au
SUMMARY:Let’s Connect at a Community Event in Dianella!
DESCRIPTION:The Stay On Your Feet® team is passionate about helping you live your best life through providing information on falls prevention and healthy\, active ageing. \nYour health\, independence\, and quality of life matter\, and we’re here to support you through sharing our valuable resources. \nCome and have a chat with us at this community event and discover proven ways to Stay On Your Feet®. \nCity of Stirling: Positive Ageing Expo 2025\nDate:  Thursday\, April 3\nTime:  10am-1pm\nLocation: Stirling Leisure – Dianella Community Centre\, 1 Light Street\, Dianella \nFor further information about Positive Ageing Expo 2025 contact:  08 9205 7632 \nClick here to register \n \n  \n \n 
URL:https://www.injurymatters.org.au/event/lets-connect-at-a-community-event-in-dianella/
LOCATION:Dianella Community Centre\, 1 Light Street\, Dianella\, WA\, 6059
CATEGORIES:Stay On Your Feet
ATTACH;FMTTYPE=image/jpeg:https://www.injurymatters.org.au/wp-content/uploads/2025/01/220527_SOYF_BeaumontOpenDay4.jpg
END:VEVENT
BEGIN:VEVENT
DTSTART;TZID=Australia/Perth:20250411T100000
DTEND;TZID=Australia/Perth:20250411T150000
DTSTAMP:20260422T123059
CREATED:20250306T033730Z
LAST-MODIFIED:20250306T033730Z
UID:16098-1744365600-1744383600@www.injurymatters.org.au
SUMMARY:Let’s Connect at a Community Event in Armadale!
DESCRIPTION:The Stay On Your Feet® team is passionate about helping you live your best life through providing information on falls prevention and healthy\, active ageing. \nYour health\, independence\, and quality of life matter\, and we’re here to support you through sharing our valuable resources. \nCome and have a chat with us at this community event and discover proven ways to Stay On Your Feet®. \nCity of Armadale: Let’s Connect Armadale Expo 2025\nDate:  Friday\, April 11\nTime:  10am-3pm\nLocation: Armadale Recreation Centre/Arena\, 4 Townley Street\, Armadale \nFor further information about Let’s Connect Armadale Expo 2025 contact:  https://www.armadale.wa.gov.au/ \n \n  \n \n 
URL:https://www.injurymatters.org.au/event/lets-connect-at-a-community-event-in-armadale/
LOCATION:Armadale Recreation Centre\, 4 Townley Street\, Armadale\, WA\, 6112
CATEGORIES:Stay On Your Feet
ATTACH;FMTTYPE=image/jpeg:https://www.injurymatters.org.au/wp-content/uploads/2025/01/220527_SOYF_BeaumontOpenDay4.jpg
END:VEVENT
END:VCALENDAR