BEGIN:VCALENDAR
VERSION:2.0
PRODID:-//Injury Matters - ECPv6.15.20//NONSGML v1.0//EN
CALSCALE:GREGORIAN
METHOD:PUBLISH
X-WR-CALNAME:Injury Matters
X-ORIGINAL-URL:https://www.injurymatters.org.au
X-WR-CALDESC:Events for Injury Matters
REFRESH-INTERVAL;VALUE=DURATION:PT1H
X-Robots-Tag:noindex
X-PUBLISHED-TTL:PT1H
BEGIN:VTIMEZONE
TZID:Australia/Perth
BEGIN:STANDARD
TZOFFSETFROM:+0800
TZOFFSETTO:+0800
TZNAME:AWST
DTSTART:20240101T000000
END:STANDARD
END:VTIMEZONE
BEGIN:VEVENT
DTSTART;TZID=Australia/Perth:20250321T093000
DTEND;TZID=Australia/Perth:20250321T130000
DTSTAMP:20260422T133947
CREATED:20250225T025515Z
LAST-MODIFIED:20250225T025850Z
UID:15940-1742549400-1742562000@www.injurymatters.org.au
SUMMARY:Let’s Connect at a Community Event in Bunbury!
DESCRIPTION:The Stay On Your Feet® team is passionate about helping you live your best life through providing information on falls prevention and healthy\, active ageing. \nYour health\, independence\, and quality of life matter\, and we’re here to support you through sharing our valuable resources. \nCome and have a chat with us at this community event and discover proven ways to Stay On Your Feet®. \nSeniors Recreation Council of WA: Have A Go Day Bunbury\nDate:  Friday\, March 21\nTime:  9.30am-1pm\nLocation: South West Sports Centre\, 1 Rotary Avenue\, Hay Park\, Bunbury \nFor further information about SRCWA Have A Go Day Bunbury contact:  0482 709 530 \n \nSCRWA Have A Go Day Flyer
URL:https://www.injurymatters.org.au/event/lets-connect-at-a-community-event-in-bunbury/
LOCATION:South West Sports Centre\, 1 Rotary Avenue\, Hay Park\, Bunbury\, Western Australia\, 6230\, Australia
CATEGORIES:Stay On Your Feet
ATTACH;FMTTYPE=image/jpeg:https://www.injurymatters.org.au/wp-content/uploads/2025/01/220527_SOYF_BeaumontOpenDay4.jpg
END:VEVENT
BEGIN:VEVENT
DTSTART;TZID=Australia/Perth:20250328T100000
DTEND;TZID=Australia/Perth:20250328T140000
DTSTAMP:20260422T133947
CREATED:20250207T023643Z
LAST-MODIFIED:20250225T012224Z
UID:15788-1743156000-1743170400@www.injurymatters.org.au
SUMMARY:Let’s Connect at a Community Event in Fremantle!
DESCRIPTION:The Stay On Your Feet® team is passionate about helping you live your best life through providing information on falls prevention and healthy\, active ageing. \nYour health\, independence\, and quality of life matter\, and we’re here to support you through sharing our valuable resources. \nCome and have a chat with us at this community event and discover proven ways to Stay On Your Feet®. \nPositive Ageing and Volunteering Expo 2025\nDate:  Friday\, March 28\nTime:  10am-2pm\nLocation: Walyalup Civic Centre\, 151 High Street\, Fremantle \nFor further information about the Fremantle Positive Ageing and Volunteering Expo contact:  1300 693 735 \nVisit:  fremantle.wa.gov.au/positiveageingexpo \nDownload Flyer:  Fremantle Positive Ageing and Volunteering Expo Flyer
URL:https://www.injurymatters.org.au/event/lets-connect-at-a-community-event-in-fremantle/
LOCATION:Walyalup Civic Centre\, 151 High Street\, Fremantle\, Fremantle\, Australia
CATEGORIES:Stay On Your Feet
ATTACH;FMTTYPE=image/jpeg:https://www.injurymatters.org.au/wp-content/uploads/2025/01/220527_SOYF_BeaumontOpenDay4.jpg
END:VEVENT
END:VCALENDAR