BEGIN:VCALENDAR
VERSION:2.0
PRODID:-//Injury Matters - ECPv6.15.20//NONSGML v1.0//EN
CALSCALE:GREGORIAN
METHOD:PUBLISH
X-WR-CALNAME:Injury Matters
X-ORIGINAL-URL:https://www.injurymatters.org.au
X-WR-CALDESC:Events for Injury Matters
REFRESH-INTERVAL;VALUE=DURATION:PT1H
X-Robots-Tag:noindex
X-PUBLISHED-TTL:PT1H
BEGIN:VTIMEZONE
TZID:Australia/Perth
BEGIN:STANDARD
TZOFFSETFROM:+0800
TZOFFSETTO:+0800
TZNAME:AWST
DTSTART:20250101T000000
END:STANDARD
END:VTIMEZONE
BEGIN:VEVENT
DTSTART;TZID=Australia/Perth:20260430T100000
DTEND;TZID=Australia/Perth:20260430T143000
DTSTAMP:20260420T110126
CREATED:20260401T063225Z
LAST-MODIFIED:20260401T065459Z
UID:19904-1777543200-1777559400@www.injurymatters.org.au
SUMMARY:Let's Connect at a Community Event in Kelmscott!
DESCRIPTION:The Injury Matters team is passionate about helping you live your best life through providing information on falls prevention and healthy\, active ageing through our Stay On Your Feet® program. \nYour health\, independence\, and quality of life matter\, and we’re here to support you through sharing our valuable resources. \nCome and have a chat with us at this community event and discover proven ways to Stay On Your Feet®. \nLet’s Connect Armadale Expo\nDate:  Thursday\, April 30\nTime:  10am-2.30pm \nLocation: Kelmscott Hall\n60 River Road\, Kelmscott \nPresented by the City of Armadale \nFree Food – Free Hearing Tests – Trial Exercise Classes\nDownload the flyer for details of vendors and venue
URL:https://www.injurymatters.org.au/event/lets-connect-at-a-community-event-in-kelmscott/
LOCATION:Kelmscott Hall\, 60 River Road\, Kelmscott\, WA\, Australia
CATEGORIES:Stay On Your Feet
ATTACH;FMTTYPE=image/jpeg:https://www.injurymatters.org.au/wp-content/uploads/2025/01/220527_SOYF_BeaumontOpenDay4.jpg
END:VEVENT
END:VCALENDAR