BEGIN:VCALENDAR
VERSION:2.0
PRODID:-//Injury Matters - ECPv6.15.20//NONSGML v1.0//EN
CALSCALE:GREGORIAN
METHOD:PUBLISH
X-WR-CALNAME:Injury Matters
X-ORIGINAL-URL:https://www.injurymatters.org.au
X-WR-CALDESC:Events for Injury Matters
REFRESH-INTERVAL;VALUE=DURATION:PT1H
X-Robots-Tag:noindex
X-PUBLISHED-TTL:PT1H
BEGIN:VTIMEZONE
TZID:Australia/Perth
BEGIN:STANDARD
TZOFFSETFROM:+0800
TZOFFSETTO:+0800
TZNAME:AWST
DTSTART:20240101T000000
END:STANDARD
END:VTIMEZONE
BEGIN:VEVENT
DTSTART;TZID=Australia/Perth:20251010T100000
DTEND;TZID=Australia/Perth:20251010T140000
DTSTAMP:20260420T005221
CREATED:20250805T014726Z
LAST-MODIFIED:20251001T034035Z
UID:17696-1760090400-1760104800@www.injurymatters.org.au
SUMMARY:Let’s Connect at a Community Event in Rockingham!
DESCRIPTION:The Injury Matters team is passionate about helping you live your best life through providing information on falls prevention and healthy\, active ageing through our Stay On Your Feet® program. \nYour health\, independence\, and quality of life matter\, and we’re here to support you through sharing our valuable resources. \nCome and have a chat with us at this community event and discover proven ways to Stay On Your Feet®. \nThe City of Rockingham presents:\nSeniors and Carers Expo 2025\nDate:  Friday\, October 10\nTime:  10am-2pm\nLocation: Mike Barnett Sports Complex\, Rockingham \n\nBring a refillable water bottle\, say ‘no’ to single use plastic\nPlease no high heels on the day – help protect the basketball courts\n\nFor further information head to the events page \nEvent is free\, but registrations are essential.  Head to the Megatix registration page to secure your ticket. \nContact:  The Event Mill on 9477 4444 or email seniors@theeventmill.com.au
URL:https://www.injurymatters.org.au/event/stay-on-your-feet-lets-connect-at-a-community-event-in-rockingham-3/
LOCATION:Mike Barnett Sports Complex\, Cnr Dixon Road and Goddard Street\, Roockingham\, WA\, Australia
CATEGORIES:Stay On Your Feet
ATTACH;FMTTYPE=image/jpeg:https://www.injurymatters.org.au/wp-content/uploads/2025/01/220527_SOYF_BeaumontOpenDay4.jpg
END:VEVENT
BEGIN:VEVENT
DTSTART;TZID=Australia/Perth:20251017T100000
DTEND;TZID=Australia/Perth:20251017T120000
DTSTAMP:20260420T005221
CREATED:20250918T053422Z
LAST-MODIFIED:20250918T063217Z
UID:18314-1760695200-1760702400@www.injurymatters.org.au
SUMMARY:Let’s Connect at a Community Event in Leederville!
DESCRIPTION:The Injury Matters team is passionate about helping you live your best life through providing information on falls prevention and healthy\, active ageing through our Stay On Your Feet® program. \nYour health\, independence\, and quality of life matter\, and we’re here to support you through sharing our valuable resources. \nCome and have a chat with us at this community event and discover proven ways to Stay On Your Feet®. \nThe Seniors Recreation Council of WA in partnership with the City of Vincent invite you to celebrate Get Online Week at the: \nSeniors Tech Expo\nDate:  Friday\, October 17\nTime:  10am-12pm\nLocation: City of Vincent Community Centre \nLight lunch provided and entry into a draw for $100 gift card on the day. \nRegistrations essential and close October 13 \nCall 08 6118 2717 \nNote: Parking is limited with free 3hr limit ticketed parking at The Loftus Centre \nDownload information flyer and map
URL:https://www.injurymatters.org.au/event/stay-on-your-feet-lets-connect-at-a-community-event-in-leederville-2/
LOCATION:City of Vincent Community Centre\, 99 Loftus Street\, Leederville\, WA\, 6007\, Australia
CATEGORIES:Stay On Your Feet
ATTACH;FMTTYPE=image/jpeg:https://www.injurymatters.org.au/wp-content/uploads/2025/01/220527_SOYF_BeaumontOpenDay4.jpg
END:VEVENT
BEGIN:VEVENT
DTSTART;TZID=Australia/Perth:20251022T093000
DTEND;TZID=Australia/Perth:20251022T113000
DTSTAMP:20260420T005221
CREATED:20250815T023808Z
LAST-MODIFIED:20250827T072756Z
UID:17877-1761125400-1761132600@www.injurymatters.org.au
SUMMARY:Move Your Body and Stand Strong!
DESCRIPTION:Injury Matters and the South Lake Ottey Centre are partnering for this Stay On Your Feet® community event for older adults. \nLearn about the importance of exercise for maintaining bone health to prevent Osteoporosis\, falls and fall-related injuries. \nRenate from the Injury Matters team will discuss why falls prevention is important as we age\, and Ryan Woodbury from Perth Osteoporosis and Bone Health Clinic will provide insights into Osteoporosis and how to prevent it.  They will be joined by Exercise Physiologist\, Anthony\, to provide strength and balance assessments. \nEnjoy a Stand Strong exercise class demonstrating how to incorporate exercises that build your balance\, strengthen your legs and maintain bone health. Then finish the event with a free morning tea! \nAttend on the day to be in the draw for our door prize. \nJoin us at: \nThe South Lake Ottey Centre\nWednesday\, October 22\n9.30am -11.30am\n2a South Lake drive\, South Lake \nDownload the information flyer: Move Your Body and Stand Strong! \nRegistrations required for catering purposes. \nPlease contact the Ottey Centre:  P: 9417 2372   or   E: hello@otteycentre.org
URL:https://www.injurymatters.org.au/event/stay-on-your-feet-move-your-body-and-stand-strong/
LOCATION:South Lake Ottey Family and Neighbourhood Centre\, 2a South Lake drive\, South Lake\, WA\, 6164\, Australia
CATEGORIES:Stay On Your Feet
ATTACH;FMTTYPE=image/jpeg:https://www.injurymatters.org.au/wp-content/uploads/2025/08/Older-people-workout-hands-up-1920x1281-1.jpg
END:VEVENT
BEGIN:VEVENT
DTSTART;TZID=Australia/Perth:20251029T173000
DTEND;TZID=Australia/Perth:20251029T193000
DTSTAMP:20260420T005221
CREATED:20250930T072242Z
LAST-MODIFIED:20251027T025831Z
UID:18438-1761759000-1761766200@www.injurymatters.org.au
SUMMARY:Ageing in WA- Thriving physically\, mentally and culturally
DESCRIPTION:Join us on Wednesday\, 29 October 2025\, from 5:30 pm – 7:30 pm for the Ageing in WA- Thriving Physically\, Mentally and Culturally networking event. \nNetworking is vital for researchers; it builds knowledge\, collaboration and professional growth. As Australia’s population ages\, healthy ageing is an increasingly important area of research. Join us for an inspiring evening with early career researchers exploring key topics in falls prevention\, consumer and caregiver involvement and healthy ageing. This event offers the perfect opportunity to connect\, learn and spark new ideas. \nHear from a range of different speakers: \n\nSi Ye (Benjamin) Lee\, Optometrist\, PhD candidate: Advancing Healthy Ageing: Building community optometrists’ role in falls prevention\nDr Cheng Yen Loo\, PhD: Voices in older Chinese consumers- Keeping older CaLD patients safe in hospital\nDr Jo-Aine Hang\, PhD: Consumer-led falls prevention education for homecare clients\nCharunya Abeysinghe M\, Nurse\, PhD candidate: Caring for the carers: An online mindfulness program for informal carers of people with dementia\n\nThis event is suitable for early-career researchers and health professionals working with older adults. \nCost: FREE \nRegister here \n 
URL:https://www.injurymatters.org.au/event/stay-on-your-feet-ageing-in-wa-thriving-physically-mentally-and-culturally/
LOCATION:The Hub\, Bentley Technology Park\, 2 Brodie Hall Drive\, Perth\, Western Australia\, 6102\, Australia
CATEGORIES:Stay On Your Feet
ATTACH;FMTTYPE=image/jpeg:https://www.injurymatters.org.au/wp-content/uploads/2025/08/Diverse-Group-Networking-scaled-e1756966045194.jpg
ORGANIZER;CN="Stay On Your Feet%C2%AE":MAILTO:info@injurymatters.org.au
END:VEVENT
BEGIN:VEVENT
DTSTART;TZID=Australia/Perth:20251030T130000
DTEND;TZID=Australia/Perth:20251030T150000
DTSTAMP:20260420T005221
CREATED:20250926T005716Z
LAST-MODIFIED:20250926T023848Z
UID:18341-1761829200-1761836400@www.injurymatters.org.au
SUMMARY:Move Your Body Riverton!
DESCRIPTION:Join Injury Matters in partnership with the City of Canning and Revive Physiotherapy and get ready to\nMove Your Body at this free event with afternoon tea and door prizes. \nPresentations\n\nMove Your Body: Falls Prevention\, Stay On Your Feet®\nMove More\, Connect More\, Live More: Strength for Life\, Riverton Leisureplex\nFrom Pain to Power: Helping You Overcome Pain\, Recover from Injury\, and Prevent Falls\, Revive Physiotherapy\nReady to Rise: Empowering Safe Movement\, Onyx Movement\n\nActivities\n\nHave your strength and balance assessed by qualifed staff from Revive Physiotherapy and Riverton Leisureplex\nMove your body with an Onyx Rise exercise session for falls prevention\n(please wear clothes and shoes comfortable to move in)\n\nAfternoon Tea and door prizes!\nResources and information to help you prevent falls\, remain independent\, and Stay On Your Feet® \nEvent is free to attend\, but bookings essential for catering purposes and close October 24. \nTo register\, head to:  Humanitix \n  \n  \n 
URL:https://www.injurymatters.org.au/event/stay-on-your-feet-move-your-body-riverton/
LOCATION:Riverton Leisureplex\, 67 Riley Road\, Riverton\, Australia
CATEGORIES:Stay On Your Feet
ATTACH;FMTTYPE=image/jpeg:https://www.injurymatters.org.au/wp-content/uploads/2025/09/Chair-exercises-scaled.jpg
END:VEVENT
END:VCALENDAR