BEGIN:VCALENDAR
VERSION:2.0
PRODID:-//Injury Matters - ECPv6.15.20//NONSGML v1.0//EN
CALSCALE:GREGORIAN
METHOD:PUBLISH
X-WR-CALNAME:Injury Matters
X-ORIGINAL-URL:https://www.injurymatters.org.au
X-WR-CALDESC:Events for Injury Matters
REFRESH-INTERVAL;VALUE=DURATION:PT1H
X-Robots-Tag:noindex
X-PUBLISHED-TTL:PT1H
BEGIN:VTIMEZONE
TZID:Australia/Perth
BEGIN:STANDARD
TZOFFSETFROM:+0800
TZOFFSETTO:+0800
TZNAME:AWST
DTSTART:20240101T000000
END:STANDARD
END:VTIMEZONE
BEGIN:VEVENT
DTSTART;TZID=Australia/Perth:20250903T100000
DTEND;TZID=Australia/Perth:20250903T120000
DTSTAMP:20260420T023859
CREATED:20250805T013249Z
LAST-MODIFIED:20250918T063259Z
UID:17693-1756893600-1756900800@www.injurymatters.org.au
SUMMARY:Let’s Connect at a Community Event in South Lake!
DESCRIPTION:The Injury Matters team is passionate about helping you live your best life through providing information on falls prevention and healthy\, active ageing through our Stay On Your Feet® program. \nYour health\, independence\, and quality of life matter\, and we’re here to support you through sharing our valuable resources. \nCome and have a chat with us at this community event and discover proven ways to Stay On Your Feet®. \nWomen’s Health Week Celebration\nHosted by South Lake Ottey Family & Neighborhood Centre\nin partnership with Moorditj Koort.\nDate:  Wednesday\, September 3\nTime:  10am-12.00pm\nLocation:  South Lake Ottey Family & Neighbourhood Centre \nFree event – Contact: South Lake Ottey Centre\nRSVP for catering:\nP: 9417 2372 or E: hello@otteycentre.org \nDownload event details: Ottey Centre Flyer
URL:https://www.injurymatters.org.au/event/stay-on-your-feet-lets-connect-at-a-community-event-in-south-lake/
LOCATION:South Lake Ottey Family and Neighbourhood Centre\, 2a South Lake drive\, South Lake\, WA\, 6164\, Australia
CATEGORIES:Stay On Your Feet
ATTACH;FMTTYPE=image/jpeg:https://www.injurymatters.org.au/wp-content/uploads/2025/01/220527_SOYF_BeaumontOpenDay4.jpg
END:VEVENT
BEGIN:VEVENT
DTSTART;TZID=Australia/Perth:20250925T130000
DTEND;TZID=Australia/Perth:20250925T160000
DTSTAMP:20260420T023859
CREATED:20250806T074228Z
LAST-MODIFIED:20250923T001253Z
UID:17775-1758805200-1758816000@www.injurymatters.org.au
SUMMARY:Applying the Otago Falls Prevention Program in Practice Workshop-- SOLD OUT
DESCRIPTION:Muscle strengthening and balance exercises are known to be the most effective measures to prevent falls in older adults. The Otago Exercise Program\, specifically designed to prevent falls\, is an individually tailored\, home-based balance and strength falls prevention program delivered to older adults by a trained instructor. The Applying the Otago Falls Prevention Program in Practice training is a half-day workshop for exercise-based falls prevention\, based on the international Otago Exercise Program principles. This interactive workshop explores the knowledge and skills required for allied health professionals to effectively screen\, implement\, and assess the outcome of exercise-based falls prevention interventions. The workshop includes the following content: \n\nBackground and impact of falls\nRisk factors for falls and age-related changes\nPostural stability and orientation\nFalls risk assessment and screening tools\nClassification of faller types\nMultifactorial assessment\nStrength and balance for falls prevention\nOtago program principles\, limitations\, and adaptations\nOutcome measurement tools\nStay On Your Feet® program\n\nWho should attend? \nThis training is suitable for allied health professionals with an interest in exercise and older adults\, including Physiotherapists\, Occupational Therapists\, Exercise Physiologists\, and Registered Nurses. \nCost: $50 \nUnfortunately\, this event is now sold out. If you would like to be kept informed about when the next workshop is\, please email bdiaz@injurymatters.org.au\, and you will be added to our EOI. \nRegister here
URL:https://www.injurymatters.org.au/event/stay-on-your-feet-applying-the-otago-falls-prevention-program-in-practice-workshop/
LOCATION:Seminar Room 1\, George Burnett Leisure Centre\, Manning Road\, Karawara\, Manning Road\, Karawara\, WA\, Australia
CATEGORIES:Stay On Your Feet
ATTACH;FMTTYPE=image/jpeg:https://www.injurymatters.org.au/wp-content/uploads/2025/01/Diverse-Group-Older-Adults-Stretch-edited.jpg
ORGANIZER;CN="Stay On Your Feet%C2%AE":MAILTO:info@injurymatters.org.au
END:VEVENT
END:VCALENDAR