BEGIN:VCALENDAR
VERSION:2.0
PRODID:-//Injury Matters - ECPv6.15.20//NONSGML v1.0//EN
CALSCALE:GREGORIAN
METHOD:PUBLISH
X-WR-CALNAME:Injury Matters
X-ORIGINAL-URL:https://www.injurymatters.org.au
X-WR-CALDESC:Events for Injury Matters
REFRESH-INTERVAL;VALUE=DURATION:PT1H
X-Robots-Tag:noindex
X-PUBLISHED-TTL:PT1H
BEGIN:VTIMEZONE
TZID:Australia/Perth
BEGIN:STANDARD
TZOFFSETFROM:+0800
TZOFFSETTO:+0800
TZNAME:AWST
DTSTART:20230101T000000
END:STANDARD
END:VTIMEZONE
BEGIN:VEVENT
DTSTART;TZID=Australia/Perth:20241203T120000
DTEND;TZID=Australia/Perth:20241203T130000
DTSTAMP:20260420T090524
CREATED:20240926T060442Z
LAST-MODIFIED:20240926T060442Z
UID:14627-1733227200-1733230800@www.injurymatters.org.au
SUMMARY:Arthritis\, Osteoporosis & Falls Webinar
DESCRIPTION:Join Injury Matters with special guest Professor Anne-Marie Hill for a comprehensive webinar on preventing falls in older adults living with arthritis and osteoporosis. Discover the latest research and evidence-based strategies to reduce fall risk and improve client outcomes. Participants joining this webinar will increase their knowledge of practical interventions and management techniques\, as well as gain valuable insights and skills to provide effective care and support to clients. Don’t miss this opportunity to enhance your knowledge and make a positive impact on the lives of older adults living with arthritis and/or osteoporosis and preventing falls. \nFeaturing guest presenter\, Professor Anne-Marie Hill\n \nProfessor Anne-Marie Hill (The University of Western Australia) is Senior Principal Research Fellow in the School of Allied Health and WA Centre for Health & Ageing. Her research is supported by the Royal Perth Hospital research foundation. Professor Hill’s research seeks to improve older people’s health and well-being\, and she holds an NHMRC EL2 Investigator grant. \nProfessor Hill has been awarded over $15 million in research funding mainly focused on falls prevention. She is a Fellow of the Australian College of Physiotherapists and has over 30 years clinical experience working with older people. \nProfessor Hill has conducted large clinical trials with a strong focus on hospital falls prevention\, residential care\, older adult education and working collaboratively with older people to reduce falls. Professor Hill also collaborates with Aboriginal and Torres Strait Islander researchers and communities focusing on sustainable physical activity programs for older Aboriginal people in WA. \nLearning Objectives\n\nIncrease knowledge of the link between arthritis\, osteoporosis and falls.\nIncrease understanding of the latest research for management of arthritis and osteoporosis for falls prevention\nIncrease knowledge of interventions and strategies to reduce the risk for falls in older adults.\nIncrease confidence to apply the concepts with older adult clients.\n\nWho should attend?\nThis webinar is designed for physiotherapists\, OT’s\, exercise physiologists\, other allied health professionals. \nRegister here\n  \n 
URL:https://www.injurymatters.org.au/event/arthritis-osteoporosis-falls-webinar/
LOCATION:Online
CATEGORIES:Stay On Your Feet
ATTACH;FMTTYPE=image/jpeg:https://www.injurymatters.org.au/wp-content/uploads/2024/01/Older-adults-squats-1.jpg
ORGANIZER;CN="Stay On Your Feet%C2%AE":MAILTO:info@injurymatters.org.au
END:VEVENT
BEGIN:VEVENT
DTSTART;TZID=Australia/Perth:20241205T104500
DTEND;TZID=Australia/Perth:20241205T130000
DTSTAMP:20260420T090524
CREATED:20241105T062716Z
LAST-MODIFIED:20241105T062900Z
UID:14868-1733395500-1733403600@www.injurymatters.org.au
SUMMARY:Public Health Pre-election Forum
DESCRIPTION:Join Injury Matters and fellow public health advocates at the WA Public Health Pre-election Forum. \nThis co-hosted event with the Public Health Association Australia\, Public Health Advocacy Institute\, Australian Health Promotion Association and Injury Matters will provide an opportunity to hear from special guests The Hon. Amber-Jade Sanderson MLA\, The Hon. Libby Mettam MLA and The Hon. Dr Brad Pettitt MLC. \nThe two-hour event will include networking opportunities and a light lunch. \nRegional stakeholders are able to register for live-streaming access. \nRSVP today for this free event to ensure your injury prevention priorities are heard ahead of the State Election on March 8th 2025.
URL:https://www.injurymatters.org.au/event/public-health-pre-election-forum/
LOCATION:Bendat Basketball Centre\, 201 Underwood Avenue\, Floreat\, WA\, 6014\, Australia
CATEGORIES:Injury Matters
ATTACH;FMTTYPE=image/jpeg:https://www.injurymatters.org.au/wp-content/uploads/2022/04/Perth-WA-Elizabeth-Quay-scaled.jpeg
END:VEVENT
END:VCALENDAR