BEGIN:VCALENDAR
VERSION:2.0
PRODID:-//Injury Matters - ECPv6.15.20//NONSGML v1.0//EN
CALSCALE:GREGORIAN
METHOD:PUBLISH
X-WR-CALNAME:Injury Matters
X-ORIGINAL-URL:https://www.injurymatters.org.au
X-WR-CALDESC:Events for Injury Matters
REFRESH-INTERVAL;VALUE=DURATION:PT1H
X-Robots-Tag:noindex
X-PUBLISHED-TTL:PT1H
BEGIN:VTIMEZONE
TZID:Australia/Perth
BEGIN:STANDARD
TZOFFSETFROM:+0800
TZOFFSETTO:+0800
TZNAME:AWST
DTSTART:20230101T000000
END:STANDARD
END:VTIMEZONE
BEGIN:VEVENT
DTSTART;TZID=Australia/Perth:20241112T113000
DTEND;TZID=Australia/Perth:20241112T130000
DTSTAMP:20260420T172345
CREATED:20240830T065526Z
LAST-MODIFIED:20240911T011802Z
UID:14321-1731411000-1731416400@www.injurymatters.org.au
SUMMARY:Town of Mosman Park - Improve Your Health & Foodbank WA Workshop
DESCRIPTION:Join Injury Matters and the Town of Mosman Park for a free Stay On Your Feet® community event. \nLearn from a local health professional about how you can Improve Your Health to prevent falls. \nParticipate in an interactive workshop with Foodbank WA and enjoy a light lunch with your fellow participants after the session. \nFor enquiries\, contact:  9383 6600 \nClick here to register \n  \n \n 
URL:https://www.injurymatters.org.au/event/town-of-mosman-park-improve-your-health-foodbank-wa-workshop/
LOCATION:Alf Adams Pavilion\, Solomon Street\, Mosman Park\, WA\, Australia
CATEGORIES:Injury Matters,Stay On Your Feet
ATTACH;FMTTYPE=image/jpeg:https://www.injurymatters.org.au/wp-content/uploads/2023/05/Nutrition-Workshop-scaled.jpg
END:VEVENT
BEGIN:VEVENT
DTSTART;TZID=Australia/Perth:20241113T110000
DTEND;TZID=Australia/Perth:20241113T120000
DTSTAMP:20260420T172345
CREATED:20240919T072331Z
LAST-MODIFIED:20240919T072406Z
UID:14579-1731495600-1731499200@www.injurymatters.org.au
SUMMARY:For Anyone Affected by a Road Crash Webinar
DESCRIPTION:Injury Matters General Manager for Recovery Support\, Ian Holbrook will be presenting key information on post-crash care for anyone impacted by road trauma. \nThis Introduction to Road Trauma Support WA webinar will provide an overview of the impact of road trauma in WA and common reactions experienced after a crash. \nThe webinar will get you more informed on: \n\nThe Road Trauma Support WA Service and levels of support.\nHow to organise a third-party referral for individuals impacted by road trauma.\nThe impact of road trauma in Western Australia.\nWhere and how to access support for yourself and others.\n\nRoad Trauma Support WA is delivered by Injury Matters with funding from the Road Trauma Trust Account and contract management through the Road Safety Commission.
URL:https://www.injurymatters.org.au/event/for-anyone-affected-by-a-road-crash/
CATEGORIES:Road Trauma Support WA
ATTACH;FMTTYPE=image/jpeg:https://www.injurymatters.org.au/wp-content/uploads/2024/03/photo-1496728319214-2785f6d3061e.jpg
END:VEVENT
BEGIN:VEVENT
DTSTART;TZID=Australia/Perth:20241115T100000
DTEND;TZID=Australia/Perth:20241115T113000
DTSTAMP:20260420T172345
CREATED:20240830T064742Z
LAST-MODIFIED:20240830T064742Z
UID:14316-1731664800-1731670200@www.injurymatters.org.au
SUMMARY:City of Vincent - Improve Your Health Bingo-cise
DESCRIPTION:Join Injury Matters and the City of Vincent for a free Stay On Your Feet® community event. \nLearn how you can Improve Your Health to prevent falls and have some fun with Bingo-cise for seniors. \nFinish the session with a morning tea with your fellow participants. \nHeld in the Birak Room at the Vincent Community Centre. \nRegistration is essential as places are limited. \nEmail community.development@vincent.wa.gov.au or call 6112 5838
URL:https://www.injurymatters.org.au/event/city-of-vincent-improve-your-health-bingo-cise/
LOCATION:Vincent Community Centre\, 99 Loftus Street\, Leederville\, WA\, 6007\, Australia
CATEGORIES:Injury Matters,Stay On Your Feet
ATTACH;FMTTYPE=image/png:https://www.injurymatters.org.au/wp-content/uploads/2022/08/SOYF_Group-Fitness-Lesley.png
END:VEVENT
BEGIN:VEVENT
DTSTART;TZID=Australia/Perth:20241119T090000
DTEND;TZID=Australia/Perth:20241119T130000
DTSTAMP:20260420T172345
CREATED:20241002T020551Z
LAST-MODIFIED:20241002T021846Z
UID:14665-1732006800-1732021200@www.injurymatters.org.au
SUMMARY:Family and Domestic Violence Awareness Training
DESCRIPTION:Family & Domestic Violence Awareness Training\nThis workshop training is designed for people in roles that deal directly or indirectly with family and domestic violence. This can include those who work in health\, allied health\, alcohol and other drugs\, education\, childcare\, and government or community organisations. This workshop is for anyone looking to increase their knowledge and awareness of family and domestic violence that helps to create safety for women and children. This 1/2-day workshop will: \n·         Increase family and domestic violence awareness \n·         Increase understanding of how family and domestic violence impacts on children and young people \n·         Identify ways family and domestic violence intersects with mental health\, alcohol and other drugs and housing \n·         Increase knowledge of specialist family and domestic violence support services \nInjury Matters is delivering this workshop in partnership with Stopping Family Violence\, the peak body for domestic and family violence perpetrator response in WA. SFV works across training\, research\, policy\, and advocacy and drives change by supporting governments and community sectors to build effective service systems that create safety for all victim-survivors. \nExpert trainer Kate Jeffries is a registered psychologist with over 30 years’ experience working in community services across Australia and New Zealand. The past 18 years has been dedicated to leading and supporting family and domestic violence\, mental health and disability sectors. Kate’s work with Stopping Family Violence\, as Manager Practice Development and Quality Assurance has involved extensive consultation across Western Australia focused on family and domestic violence workforce development\, training\, advocacy and research. Kate is an accredited trainer and supervisor with the Safe and Together model and AHPRA Board-approved supervisor. \nComplimentary networking lunch provided \nRegister Here  \n \n  \n  \n 
URL:https://www.injurymatters.org.au/event/family-and-domestic-violence-awareness-training-2/
LOCATION:Bendat Parent & Community Centre\, 36 Dodd Street\, Wembley\, WA\, 6014\, Australia
CATEGORIES:Know Injury
ATTACH;FMTTYPE=image/jpeg:https://www.injurymatters.org.au/wp-content/uploads/2024/10/Young-Family-Piggyback-Smiling-scaled.jpeg
ORGANIZER;CN="Know Injury":MAILTO:info@injurymatters.org.au
END:VEVENT
BEGIN:VEVENT
DTSTART;TZID=Australia/Perth:20241126T100000
DTEND;TZID=Australia/Perth:20241126T110000
DTSTAMP:20260420T172345
CREATED:20241016T011354Z
LAST-MODIFIED:20241018T014359Z
UID:14734-1732615200-1732618800@www.injurymatters.org.au
SUMMARY:Alcohol and Older Adults Webinar
DESCRIPTION:Are you interested in understanding and reducing the risk of alcohol use in older adults?\nJoin us for an informative 60-minute online webinar focused on alcohol use among older adults. \nRecent data highlights a concerning trend of risky alcohol use by older adults. Given our ageing population\, additional action is needed to be able to identify and support older adults at risk of alcohol-related harm. Without additional action\, there will be increased demand on our healthcare system\, and just as important\, it will affect our older adults’ quality of life. \nWe all have a role to play in reducing the impact of alcohol on our community. \nThis webinar will be delivered in collaboration with experts Dr. San Buttar\, a Senior Consultant at Royal Perth Hospital and Jo Woodruff\, Team Leader of Alcohol and Other Drugs Community Prevention at Holyoake. \nWhat will the webinar cover? \n\nThe incidence of alcohol-related harm among older adults.\nHow and why alcohol impacts an older population differently.\nHow alcohol increases the risk of injury in older adults.\nWays to reduce alcohol-related harm.\nCurrent initiatives aiming to reducing alcohol-related harm in WA.\n\nWho should attend? \n\nAllied Health Professionals who work with older adults\nCarers\, and Family and Support Workers who support older adults\nRetirement / Assisted Living Professionals\nHealth Promotion Professionals\nLocal Government Workers\nAoD Support Service Staff\nAnyone with an interest in reducing alcohol-related harm\n\nClick Here to Register
URL:https://www.injurymatters.org.au/event/alcohol_and_older_adults_webinar/
LOCATION:Online
CATEGORIES:Know Injury
ATTACH;FMTTYPE=image/jpeg:https://www.injurymatters.org.au/wp-content/uploads/2024/08/pexels-olly-3768131-scaled.jpg
ORGANIZER;CN="Know Injury":MAILTO:info@injurymatters.org.au
END:VEVENT
BEGIN:VEVENT
DTSTART;TZID=Australia/Perth:20241127T090000
DTEND;TZID=Australia/Perth:20241127T130000
DTSTAMP:20260420T172345
CREATED:20241025T020516Z
LAST-MODIFIED:20241028T080549Z
UID:14788-1732698000-1732712400@www.injurymatters.org.au
SUMMARY:South West Local Government Public Health  Planning Workshop
DESCRIPTION:This workshop is designed to provide South West Local Governments with the data\, support\, and tools necessary to develop Public Health Plans. Whether you’re managing the process internally or working with consultants\, this session will focus on key aspects of pre-planning and the development or review of a health status report\, ensuring a solid foundation for your Plan. \nThe workshop is suitable for anyone involved in the development or review of Public Health Plans\, including Environmental Health Officers and Community Development Officers. \nGain practical skills in sourcing and analysing local data and identifying gaps to assess public health concerns. You’ll also learn key data concepts and how to use both qualitative and quantitative data for effective planning. The workshop will also cover community engagement and internal and external stakeholder engagement. \nRelevant localised data will be provided to ensure the workshop provides practical information and the event will: \n\nIncrease skills in collecting\, analysing\, and identifying gaps in local health data.\nIncrease skills in prioritising public health issues using data and case studies.\nIncrease knowledge of engaging internal and external stakeholders effectively in the public health planning process.\n\nThe workshop will be followed by a second session in early 2025\, where we will continue the process\, including setting objectives and priorities for your Public Health Plan. \nLunch provided. \nRegister Here
URL:https://www.injurymatters.org.au/event/south-west-local-government-public-health-planning-workshop/
LOCATION:Northam Recreation Centre\, 44 Peel Terrace\, Northam\, WA\, 6401\, Australia
CATEGORIES:Know Injury
ATTACH;FMTTYPE=image/jpeg:https://www.injurymatters.org.au/wp-content/uploads/2024/10/Southwest-WA-Beach-Jetty.jpg
ORGANIZER;CN="Know Injury":MAILTO:info@injurymatters.org.au
END:VEVENT
END:VCALENDAR