BEGIN:VCALENDAR
VERSION:2.0
PRODID:-//Injury Matters - ECPv6.15.20//NONSGML v1.0//EN
CALSCALE:GREGORIAN
METHOD:PUBLISH
X-WR-CALNAME:Injury Matters
X-ORIGINAL-URL:https://www.injurymatters.org.au
X-WR-CALDESC:Events for Injury Matters
REFRESH-INTERVAL;VALUE=DURATION:PT1H
X-Robots-Tag:noindex
X-PUBLISHED-TTL:PT1H
BEGIN:VTIMEZONE
TZID:Australia/Perth
BEGIN:STANDARD
TZOFFSETFROM:+0800
TZOFFSETTO:+0800
TZNAME:AWST
DTSTART:20230101T000000
END:STANDARD
END:VTIMEZONE
BEGIN:VEVENT
DTSTART;TZID=Australia/Perth:20240819T090000
DTEND;TZID=Australia/Perth:20240819T120000
DTSTAMP:20260420T213354
CREATED:20240621T053306Z
LAST-MODIFIED:20240624T022151Z
UID:13817-1724058000-1724068800@www.injurymatters.org.au
SUMMARY:Implementing the Lifestyle Integrated Functional Exercise (LIFE) Program to help prevent falls
DESCRIPTION:The ‘Implementing the Lifestyle Integrated Functional Exercise (LIFE) Program to help prevent falls‘ training is a half-day workshop for health professionals to reduce the risk of falls and improve capacity for functional everyday activity\, based on the LiFE program principles. This interactive workshop explores the knowledge and skills required for allied health professionals to effectively implement balance and strength exercises for older adults in their everyday lives. Each workshop includes the following content: \n\nBackground and impact of falls\nLiFE Principles of Balance Training\nEmbedding exercises into daily routines\nHabit formation and retention\nScreening and assessment tools\nSafety considerations\nLiFE program modifications and adaptations\nStay On Your Feet® program\n\nThis training is suitable for allied health professionals interested in exercise and older adults\, including Physiotherapists\, Occupational Therapists\, Exercise Physiologists\, and Registered Nurses. \nThis workshop will be delivered by a Registered Physiotherapist and will include a morning tea break. \nRegister here \nIf you would like to request an invoice for this training\, or have any technical issues registering for this event\, please email info@injurymatters.org.au. \nThis Stay On Your Feet® workshop is delivered by Injury Matters and funded by the Western Australian Department of Health.
URL:https://www.injurymatters.org.au/event/stay-on-your-feet-implementing-the-lifestyle-integrated-functional-exercise-life-program-to-help-prevent-falls/
LOCATION:Bendat Parent & Community Centre\, 36 Dodd Street\, Wembley\, WA\, 6014\, Australia
CATEGORIES:Stay On Your Feet
ATTACH;FMTTYPE=image/jpeg:https://www.injurymatters.org.au/wp-content/uploads/2024/06/CoV-Tai-Chi-DZuks-April-2024-73-2.jpg
ORGANIZER;CN="Stay On Your Feet%C2%AE":MAILTO:info@injurymatters.org.au
END:VEVENT
END:VCALENDAR