BEGIN:VCALENDAR
VERSION:2.0
PRODID:-//Injury Matters - ECPv6.15.20//NONSGML v1.0//EN
CALSCALE:GREGORIAN
METHOD:PUBLISH
X-ORIGINAL-URL:https://www.injurymatters.org.au
X-WR-CALDESC:Events for Injury Matters
REFRESH-INTERVAL;VALUE=DURATION:PT1H
X-Robots-Tag:noindex
X-PUBLISHED-TTL:PT1H
BEGIN:VTIMEZONE
TZID:Australia/Perth
BEGIN:STANDARD
TZOFFSETFROM:+0800
TZOFFSETTO:+0800
TZNAME:AWST
DTSTART:20230101T000000
END:STANDARD
END:VTIMEZONE
BEGIN:VEVENT
DTSTART;TZID=Australia/Perth:20240501T090000
DTEND;TZID=Australia/Perth:20240501T103000
DTSTAMP:20260420T112259
CREATED:20240305T054908Z
LAST-MODIFIED:20240306T033218Z
UID:12929-1714554000-1714559400@www.injurymatters.org.au
SUMMARY:Evaluating Alcohol and Other Drug Programs
DESCRIPTION:Evaluation is a key aspect to consider when implementing alcohol and other drug programs in the community. It helps to assess if an intervention has achieved its goals\, informs how to improve current or future activities\, collects information to support reporting requirements\, and supports future funding opportunities. \nInjury Matters\, through the Know Injury program and in partnership with Hope Community Services\, will be delivering a 90-minute workshop session in Kalgoorlie for early career health promotion officers\, project/program/grant officers\, and/or community engagement officers\, who would like to learn more about implementing evidence-based evaluation processes. The workshop will cover topics such as: \n\nThe role\, importance\, and types of evaluation\nHow to develop an evaluation framework\nHow to develop project outcomes\, impact\, and process objectives\nHow to design an effective survey\nMitigating evaluation challenges (e.g. confidentiality)\nHow to best use and share your evaluation results.\n\nMorning Tea provided and networking to follow. Please advise of any dietary requirements. \nRegister here
URL:https://www.injurymatters.org.au/event/know-injury-evaluating-alcohol-and-other-drug-programs/
LOCATION:Overland Motel Kalgoorlie\, 566 Hannan Street\, Kalgoorlie\, Western Australia\, Australia
CATEGORIES:Know Injury
ATTACH;FMTTYPE=image/jpeg:https://www.injurymatters.org.au/wp-content/uploads/2024/03/DSC02518-scaled.jpg
ORGANIZER;CN="Know Injury":MAILTO:info@injurymatters.org.au
END:VEVENT
BEGIN:VEVENT
DTSTART;TZID=Australia/Perth:20240501T110000
DTEND;TZID=Australia/Perth:20240501T120000
DTSTAMP:20260420T112259
CREATED:20240321T063542Z
LAST-MODIFIED:20240321T064113Z
UID:13091-1714561200-1714564800@www.injurymatters.org.au
SUMMARY:Road Trauma Support WA Lunch and Learn
DESCRIPTION:Road Trauma Support WA in partnership with Hope Community Services will be delivering a one-hour information session in Kalgoorlie for organisations\, emergency services\, the private sector and the community\, who would like to learn how they can utilise the Road Trauma Support WA service. The information session will help you get better informed on: \n\nThe impact of road trauma in WA.\nAn overview of the Road Trauma Support WA service and levels of support.\nHow to organise a third-party referral for individuals impacted by road trauma.\nFind out where and how to access support for yourself and others.\n\nBuffet lunch and networking to follow. \n*Alcohol-free event \nRegister at https://form.jotform.com/240578449760871 \n 
URL:https://www.injurymatters.org.au/event/road-trauma-support-wa-lunch-and-learn/
LOCATION:Overland Motel Kalgoorlie\, 566 Hannan Street\, Kalgoorlie\, Western Australia\, Australia
CATEGORIES:Road Trauma Support WA
ATTACH;FMTTYPE=image/jpeg:https://www.injurymatters.org.au/wp-content/uploads/2024/03/Kalgoorlie-2.jpg
END:VEVENT
BEGIN:VEVENT
DTSTART;TZID=Australia/Perth:20240507T090000
DTEND;TZID=Australia/Perth:20240507T170000
DTSTAMP:20260420T112259
CREATED:20240124T030455Z
LAST-MODIFIED:20240130T033819Z
UID:12606-1715072400-1715101200@www.injurymatters.org.au
SUMMARY:Tai Chi for Arthritis and Falls Prevention - Instructor Training
DESCRIPTION:Tai Chi is one of the most effective strategies to reduce the risk of experiencing a fall due to its positive benefits for maintaining muscle and strength\, increasing endurance\, improving gait\, balance\, and mood. Tai Chi for Arthritis and Falls Prevention Instructor training\, developed by Dr Paul Lam\, is an evidence-based program to help health professionals working with older adults to become a certified Tai Chi for Health Institute Instructor. \nThis comprehensive\, practical\, and enjoyable Instructor Preparation Package contains essential material to learn how to be an effective and safe instructor of the Tai Chi for Arthritis & Falls Prevention program. The online and in-person components follow a natural learning sequence with an online portal that includes video guides from Dr Paul Lam at every step and a one-day in-person workshop run by Tai Chi for Health Institute Master Trainer Sam Sujatna in Perth\, WA. \nWho should register? \nThis training is suitable for physiotherapists\, occupational therapists\, and fitness instructors who work with older adults and want to implement Tai Chi classes as a falls prevention measure in their community. \nThe total cost of this training package amounts to around AUD $200\, with the Injury Matters-led workshop costing AUD $80. After completing this training package\, you will become a certified Tai Chi for Health Institute (TCHI) Instructor. As a certified instructor\, you will be able to help people improve their quality of life through Tai Chi and\, at the same time\, enhance your own Tai Chi skills. \nPlease note that you must complete both program steps and register for them at the same time. By doing so\, you are committing to completing the training and gaining certification. \n \nStep One (US$80)\nRegister for this online component of the training package\, which includes Dr. Paul Lam’s Tai Chi for Arthritis & Fall Prevention (TCAFP) program\, along with a specific sequence of learning materials\, as well as: \n\nAdditional videos to guide you through every part\nKnowledge units for Instructors\nQuizzes\n6 Webinar recordings\nDigital certificate after completion\, which you will need to provide to access Step Two\n\nRegister here for Step One \nAfter registration\, you will have access to this online content for one full year. However\, you will need to complete all required content and provide the certificate of completion prior to attending the workshop (Step Two). The estimated time to complete the online components is 2-3 weeks. Therefore\, we advise you to register for Step One no later than 17th April 2024 to access Step Two. The cost for this online component is not affiliated with Injury Matters as it is an external training portal. \nStep Two (AUD$80)\nRegister for our in-person one-day workshop on May 7th 2024\, facilitated by Tai Chi for Health Institute (TCHI) Master Trainer Sam Sujatna. This one-day workshop will cover: \n\nStay On Your Feet® overview\nTai Chi fundamentals\nSun style Tai Chi sequence\nSeated Tai Chi\n\nRegister here for Step Two
URL:https://www.injurymatters.org.au/event/tai-chi-for-arthritis-and-falls-prevention-instructor-training/
LOCATION:Bendat Parent & Community Centre\, 36 Dodd Street\, Wembley\, WA\, 6014\, Australia
CATEGORIES:Stay On Your Feet
ATTACH;FMTTYPE=image/jpeg:https://www.injurymatters.org.au/wp-content/uploads/2024/01/DSC01389-scaled.jpg
END:VEVENT
BEGIN:VEVENT
DTSTART;TZID=Australia/Perth:20240508T100000
DTEND;TZID=Australia/Perth:20240508T123000
DTSTAMP:20260420T112259
CREATED:20240320T080007Z
LAST-MODIFIED:20240320T080141Z
UID:13068-1715162400-1715171400@www.injurymatters.org.au
SUMMARY:Move Your Body with Tai Chi
DESCRIPTION:Save the date! Injury Matters is teaming up with the City of Cockburn to deliver a free Stay On Your Feet® community event for older adults. Learn about the importance of moving your body to prevent falls\, try Tai Chi\, and enjoy morning tea and cuppa with your fellow participants. \nDate: Wednesday 8th May 2024\nTime: 10:00am- 12:45pm\nCost: Free\nLocation: South Lake Ottey Family & Neighbourhood Centre\, 2A S Lake Dr\, South Lake \nWho: Older adults\, family members and Carer’s \nMore details to come! \nFor more information\, email rvandordrecht@injurymatters.org.au or call 6166 7688.
URL:https://www.injurymatters.org.au/event/move-your-body-with-tai-chi/
LOCATION:South Lake Ottey Family and Neighbourhood Centre\, 2a South Lake drive\, South Lake\, WA\, 6164\, Australia
CATEGORIES:Stay On Your Feet
ATTACH;FMTTYPE=image/jpeg:https://www.injurymatters.org.au/wp-content/uploads/2024/01/Older-adults-Tai-Chi-scaled-e1704877075482.jpg
END:VEVENT
BEGIN:VEVENT
DTSTART;TZID=Australia/Perth:20240508T120000
DTEND;TZID=Australia/Perth:20240515T124500
DTSTAMP:20260420T112300
CREATED:20240220T080431Z
LAST-MODIFIED:20240221T010236Z
UID:12845-1715169600-1715777100@www.injurymatters.org.au
SUMMARY:Evaluation webinar series
DESCRIPTION:Evaluation is a key aspect to consider when implementing health promotion programs in the community. It helps to assess if an intervention achieved its goals\, informs how to improve current or future activities\, collects information to support reporting requirements\, and supports future funding opportunities. It is also a vital part of successful grant programs. \nThis two-part\, 45-minute\, lunchtime webinar series will provide an overview of evaluation for health programs in WA; how to evaluate project activities\, data collection and translation methods\, how to mitigate any challenges that arise\, and practical tips to support your evaluation activities. \nWho should attend? \nThese webinars are suitable for early career health promotion officers or anyone seeking an update on the evaluation concepts in the public health context. \nWebinar 1: Setting the scene for evaluation \n12pm-12:45pm AWST\, May 8th 2024 \n\nRole of evaluation\nImportance of evaluation\nTypes of evaluation\nEvaluation framework development\nExamples of project outcome\, impact\, and process objectives\n\nRegister for Webinar One here \nWebinar 2: How can I effectively evaluate my project? \n12pm-12:45pm AWST\, May 15th 2024 \n\nHow do we collect the information that we need?\nCultural\, health literacy\, and timing considerations\nHow to design an effective survey\nMitigating evaluation challenges\nEvaluate community health promotion activities\, events\, and awareness-raising activities.\nHow to best use and share your evaluation results.\n\nRegister for Webinar Two here
URL:https://www.injurymatters.org.au/event/know-injury-evaluation-webinar-series/
LOCATION:Online
CATEGORIES:Know Injury
ATTACH;FMTTYPE=image/jpeg:https://www.injurymatters.org.au/wp-content/uploads/2024/02/Meeting.jpeg
ORGANIZER;CN="Know Injury":MAILTO:info@injurymatters.org.au
END:VEVENT
BEGIN:VEVENT
DTSTART;TZID=Australia/Perth:20240514T133000
DTEND;TZID=Australia/Perth:20240514T143000
DTSTAMP:20260420T112300
CREATED:20240312T045258Z
LAST-MODIFIED:20240318T054556Z
UID:12987-1715693400-1715697000@www.injurymatters.org.au
SUMMARY:Clinical yarning for injury prevention
DESCRIPTION:Effective communication between healthcare clinicians and Aboriginal patients is critical to delivering high-quality\, accessible\, culturally secure health care. Despite this\, ineffective communication is a well-documented barrier\, and few studies have reported interventions to improve communication. \nClinical Yarning is a patient-centered communication framework for Aboriginal health care. This webinar aims to explore the importance of yarning in a clinical setting for health professionals in the injury prevention sector. \nDr Ivan Lin and Trevor Pickett from WA Centre for Rural Health will explore the concept of clinical yarning\, how it can be implemented\, and the benefits to Aboriginal communities in WA. \nWho should attend? \nThis webinar is for general practitioners\, injury prevention practitioners\, health promotion advocates\, and Aboriginal health workers. \nRegister here
URL:https://www.injurymatters.org.au/event/clinical-yarning-for-injury-prevention/
LOCATION:Online
CATEGORIES:Know Injury
ATTACH;FMTTYPE=image/jpeg:https://www.injurymatters.org.au/wp-content/uploads/2024/03/2023_SOYF_AboriginalGroup-1-scaled.jpg
ORGANIZER;CN="Know Injury":MAILTO:info@injurymatters.org.au
END:VEVENT
BEGIN:VEVENT
DTSTART;TZID=Australia/Perth:20240516T140000
DTEND;TZID=Australia/Perth:20240516T150000
DTSTAMP:20260420T112300
CREATED:20240215T011547Z
LAST-MODIFIED:20240215T011620Z
UID:12789-1715868000-1715871600@www.injurymatters.org.au
SUMMARY:City of Mandurah Road Trauma Support Information Session
DESCRIPTION:Each year in Western Australia\, thousands of people are impacted by road trauma. Responding or first on scene at a car crash\, losing family and friends\, dealing with injuries\, caring for those injured\, causing a crash or witnessing a serious crash can have a devastating and enduring impact. \nRoad Trauma Support WA will be delivering a one-hour information session for the City of Mandurah\, to help them get better informed on how they can utilise the Road Trauma Support service to support themselves and others. \nThe information session will help you get better informed on: \n\nThe impact of road trauma in WA.\nAn overview of the Road Trauma Support WA service and levels of support.\nHow to organise a third-party referral for individuals impacted by road trauma.\nFind out where and how to access support for yourself and others.\n\nRSVP: Kellie Wilson – (08) 9550 3777 or Kellie.Wilson@mandurah.wa.gov.au
URL:https://www.injurymatters.org.au/event/city-of-mandurah-road-trauma-support-information-session/
LOCATION:Tuckey Room\, Mandurah Council Chambers\, 87 Mandurah Terrace\, Mandurah\, WA\, 6210\, Australia
CATEGORIES:Road Trauma Support WA
ATTACH;FMTTYPE=image/jpeg:https://www.injurymatters.org.au/wp-content/uploads/2023/07/First-responders-training.jpg
END:VEVENT
BEGIN:VEVENT
DTSTART;TZID=Australia/Perth:20240522T120000
DTEND;TZID=Australia/Perth:20240522T130000
DTSTAMP:20260420T112300
CREATED:20240426T042241Z
LAST-MODIFIED:20240426T043643Z
UID:13278-1716379200-1716382800@www.injurymatters.org.au
SUMMARY:Steady Steps Forward: Systems Thinking Approach in Fall Prevention for Older Australians
DESCRIPTION:This upcoming webinar will cover the critical issue of falls prevention among older Australians\, discussing both individual and systemic impacts. Falls significantly affect older adults and burden the healthcare system\, exceeding $2.3 billion annually. \nThe presenters\, Dr. Nathalia Costa\, Professor Kim Delbaere\, and Dr. Meghan Ambrens\, co-authors of the paper “A systems approach to assist policy action to prevent falls among community-dwelling older people in Australia\,” will present their findings from a thorough policy review\, highlighting gaps and identifying potential pathways for improvement. They use a systems-thinking approach to understand the complex factors contributing to falls\, and suggest actionable solutions for policy enhancement. Their research employs the Prevention Systems Change Framework (PSCF) to analyse the existing falls-prevention policies at the national and state levels. \nThe discussion will focus on essential questions regarding the current landscape of falls prevention policies\, needed changes\, and implementation strategies to improve outcomes. This session is aimed at healthcare professionals\, policymakers\, and researchers interested in public health and systemic change in falls prevention. \nThe webinar will be followed by a Community Falls Network meeting ending at 1.30 pm. The Injury Matters Community Falls Network aims to bring together health and community professionals to discuss key issues and share solutions in community falls prevention in WA. The Network meets quarterly via videoconference and in person. For more information or to join the Network\, contact Injury Matters Program Delivery Lead\, Suzanne Butler via 6166 7688 or sbutler@injurymatters.org.au. \nRegister here
URL:https://www.injurymatters.org.au/event/steady-steps-forward-systems-thinking-approach-in-fall-prevention-for-older-australians/
LOCATION:Online
CATEGORIES:Stay On Your Feet
ATTACH;FMTTYPE=image/jpeg:https://www.injurymatters.org.au/wp-content/uploads/2024/04/Older-people-workout-hands-up-scaled.jpg
ORGANIZER;CN="Stay On Your Feet%C2%AE":MAILTO:info@injurymatters.org.au
END:VEVENT
BEGIN:VEVENT
DTSTART;TZID=Australia/Perth:20240530T090000
DTEND;TZID=Australia/Perth:20240530T120000
DTSTAMP:20260420T112300
CREATED:20240321T064740Z
LAST-MODIFIED:20240321T064740Z
UID:13097-1717059600-1717070400@www.injurymatters.org.au
SUMMARY:After a Road Crash: Supporting Yourself and Others
DESCRIPTION:Road Trauma Support WA will be delivering a free\, three-hour workshop for community members who may be exposed to road trauma as part of their work and/or personal life\, who would like to know how they can support themselves and others impacted by grief\, loss\, and trauma. \nThe information session will help you get better informed on: \n\nThe impact of road trauma in WA.\nCommon reactions experienced after a crash.\nUnderstand the impact of grief\, loss\, and trauma.\nRespond appropriately to those impacted by grief\, loss\, and trauma.\nSelf-care strategies to reduce the impact.\nFind out where and how to access support for yourself and others.\n\nRSVP: Belle Brandis\, rcmgr@kulin.wa.gov.au  / (08) 9880 1204
URL:https://www.injurymatters.org.au/event/after-a-road-crash-supporting-yourself-and-others/
LOCATION:Freebairn Recreation Centre\, Kulin\, 6365
CATEGORIES:Road Trauma Support WA
ATTACH;FMTTYPE=image/jpeg:https://www.injurymatters.org.au/wp-content/uploads/2024/03/Kulin.jpg
END:VEVENT
END:VCALENDAR