BEGIN:VCALENDAR
VERSION:2.0
PRODID:-//Injury Matters - ECPv6.15.20//NONSGML v1.0//EN
CALSCALE:GREGORIAN
METHOD:PUBLISH
X-ORIGINAL-URL:https://www.injurymatters.org.au
X-WR-CALDESC:Events for Injury Matters
REFRESH-INTERVAL;VALUE=DURATION:PT1H
X-Robots-Tag:noindex
X-PUBLISHED-TTL:PT1H
BEGIN:VTIMEZONE
TZID:Australia/Perth
BEGIN:STANDARD
TZOFFSETFROM:+0800
TZOFFSETTO:+0800
TZNAME:AWST
DTSTART:20220101T000000
END:STANDARD
END:VTIMEZONE
BEGIN:VEVENT
DTSTART;TZID=Australia/Perth:20231018T130000
DTEND;TZID=Australia/Perth:20231018T143000
DTSTAMP:20260421T122335
CREATED:20231005T075857Z
LAST-MODIFIED:20231005T075930Z
UID:11805-1697634000-1697639400@www.injurymatters.org.au
SUMMARY:Stay On Your Feet® falls prevention afternoon tea Albany
DESCRIPTION:Join Injury Matters and the City of Albany at the Albany Public Library for a free community event and afternoon tea. \nLearn how to prevent falls and Stay On Your Feet® with a presentation from Injury Matters about: \n\nWhy people may experience falls\nMoving Your Body\, including building balance and strength\nImproving Your Health\, including managing your medications\, nutrition and healthy eating\, and keeping a healthy mind\nRemoving Hazards\, including home safety and hazards in and around the home\, wearing safe footwear\, and checking your eyesight\nTips and strategies for preventing falls\nThe health professionals that can help you prevent having a fall\n\nBookings required. \nRegister here
URL:https://www.injurymatters.org.au/event/stay-on-your-feet-falls-prevention-afternoon-tea-albany/
CATEGORIES:Stay On Your Feet
ATTACH;FMTTYPE=image/jpeg:https://www.injurymatters.org.au/wp-content/uploads/2021/06/MicrosoftTeams-image-96.jpg
END:VEVENT
END:VCALENDAR