BEGIN:VCALENDAR
VERSION:2.0
PRODID:-//Injury Matters - ECPv6.15.20//NONSGML v1.0//EN
CALSCALE:GREGORIAN
METHOD:PUBLISH
X-ORIGINAL-URL:https://www.injurymatters.org.au
X-WR-CALDESC:Events for Injury Matters
REFRESH-INTERVAL;VALUE=DURATION:PT1H
X-Robots-Tag:noindex
X-PUBLISHED-TTL:PT1H
BEGIN:VTIMEZONE
TZID:Australia/Perth
BEGIN:STANDARD
TZOFFSETFROM:+0800
TZOFFSETTO:+0800
TZNAME:AWST
DTSTART:20220101T000000
END:STANDARD
END:VTIMEZONE
BEGIN:VEVENT
DTSTART;TZID=Australia/Perth:20230710T110000
DTEND;TZID=Australia/Perth:20230710T121500
DTSTAMP:20260421T170231
CREATED:20230531T030701Z
LAST-MODIFIED:20230629T031652Z
UID:10452-1688986800-1688991300@www.injurymatters.org.au
SUMMARY:Next Steps for Injury Prevention
DESCRIPTION:Have you ever wondered what the next frontier in injury prevention and safety promotion practice\, research\, and policy will be? Join us for this discussion starter to hear from leaders in Australian Injury Prevention and Safety Promotion reflecting on the current challenges\, areas for future developments\, and the skills that the workforce will need to be swift in addressing threats and responsive to opportunities. \nThe invited speakers who will provide their perspectives on the future are: \n\nDr. Denise Sullivan\, Director of Chronic Disease Prevention at the Department of Health WA:  Leads the development of state chronic disease and injury prevention policy and planning frameworks and contributes to the shaping of the national preventive health policy agenda.\nAssociate Professor Debbie Scott\, AIPN President: Strategic Lead of The National Addiction and Mental Health Surveillance Unit at Turning Point. Debbie’s research interests focus on the use of surveillance systems and data to improve the understanding of and interventions for harms associated with alcohol and drugs – particularly those associated with intentional injury (suicide and self-harm\, family violence\, child maltreatment).\nProfessor Stuart Newstead\, Professor and Director of Monash University Accident Research Centre: leads the Centre’s Injury Analysis and Data Team. Dr Newstead’s areas of significant topic-based expertise include a range of safety issues with a particular focus on safety program evaluation\, vehicle safety evaluation monitoring and policy setting\, police enforcement programs\, vulnerable and high-risk road user safety\, injury data systems design and analysis\, and injury outcome metrics.\nJustin Scarr\, Chief Executive Officer at Royal Life Saving Australia: Leads a cross-functional management team covering education and training\, research and health promotion\, industry service and risk management\, sport development\, and marketing and communication.\n\nBy the end of this panel discussion\, participants will: \n\nGain insights into current challenges facing injury prevention researchers\, policymakers\, and practitioners\nGain insight into opportunities and areas for development in injury prevention and safety promotion\nGain insight into the skills required now and into the future of injury prevention policymakers\, practitioners\, and researchers.\n\nWho should attend? \nIf you are a policy advocate\, injury prevention or trauma care professional\, public health student\, researcher\, civil society organisation\, or concerned citizen/resident this webinar is targeted for you. \nRegister here \nThis webinar is hosted by Injury Matters (via the Know Injury program)\, the Australasian Injury Prevention Network (AIPN)\, and the Public Health Association of Australia (PHAA).
URL:https://www.injurymatters.org.au/event/know-injury-next-steps-for-injury-prevention/
LOCATION:Online
CATEGORIES:Know Injury
ATTACH;FMTTYPE=image/jpeg:https://www.injurymatters.org.au/wp-content/uploads/2023/03/Aerial-Suburbia-Drone-Shot.jpg
ORGANIZER;CN="Know Injury":MAILTO:info@injurymatters.org.au
END:VEVENT
BEGIN:VEVENT
DTSTART;TZID=Australia/Perth:20230725T120000
DTEND;TZID=Australia/Perth:20230725T130000
DTSTAMP:20260421T170231
CREATED:20230620T074219Z
LAST-MODIFIED:20230629T031724Z
UID:10601-1690286400-1690290000@www.injurymatters.org.au
SUMMARY:Alcohol and Injury Prevention: The latest research and advocacy opportunities
DESCRIPTION:Alcohol is reported as the highest risk factor for injury in Australia\, contributing to over 15% of the overall burden of injuries in 2018. Join the Australasian Injury Prevention Network supported by the Know Injury Program from Injury Matters as they host this webinar with guest presenter Professor Peter Miller. Peter is the Professor of Violence Prevention and Addiction Studies at the School of Psychology at Deakin University. Peter will share the latest findings from his research on alcohol policy\, licensed venues\, and violence (Queensland Alcohol-related violence and Night Time Economy Monitoring (QUANTEM) study) as well as the Last Drinks study while discussing some practical takeaways and advocacy suggestions/reflections. \nRegister for the Teams webinar \nThis Know Injury webinar is provided by Injury Matters and funded by the Western Australian Department of Health.
URL:https://www.injurymatters.org.au/event/know-injury-alcohol-and-injury-prevention-the-latest-research-and-advocacy-opportunities/
LOCATION:Online
ATTACH;FMTTYPE=image/jpeg:https://www.injurymatters.org.au/wp-content/uploads/2023/06/Hands-up-nightlife-scaled-e1687319650329.jpg
ORGANIZER;CN="Know Injury":MAILTO:info@injurymatters.org.au
END:VEVENT
BEGIN:VEVENT
DTSTART;TZID=Australia/Perth:20230727T100000
DTEND;TZID=Australia/Perth:20230727T120000
DTSTAMP:20260421T170231
CREATED:20230718T024159Z
LAST-MODIFIED:20230718T024159Z
UID:11061-1690452000-1690459200@www.injurymatters.org.au
SUMMARY:Peer Support Information Session
DESCRIPTION:Get involved in your community while learning\, meeting new friends and making a difference. \nWe’re looking for over 55’s to join us as peer educators to help prevent falls in the WA community. \nJoin us for an information session to learn what is involved in becoming an Injury Matters Peer Educator this July. \nCall 1300 30 35 40 to register! \nLunch provided.
URL:https://www.injurymatters.org.au/event/peer-support-information-session/
LOCATION:Injury Matters\, 2/297 VINCENT STREET\, Leederville\, Western Australia\, 6007\, Australia
CATEGORIES:Stay On Your Feet
ATTACH;FMTTYPE=image/jpeg:https://www.injurymatters.org.au/wp-content/uploads/2023/04/11thNovember2021_InjuryMatters_20thAnniversary-117-e1725522664303.jpg
ORGANIZER;CN="Stay On Your Feet%C2%AE":MAILTO:info@injurymatters.org.au
END:VEVENT
END:VCALENDAR