BEGIN:VCALENDAR
VERSION:2.0
PRODID:-//Injury Matters - ECPv6.15.20//NONSGML v1.0//EN
CALSCALE:GREGORIAN
METHOD:PUBLISH
X-ORIGINAL-URL:https://www.injurymatters.org.au
X-WR-CALDESC:Events for Injury Matters
REFRESH-INTERVAL;VALUE=DURATION:PT1H
X-Robots-Tag:noindex
X-PUBLISHED-TTL:PT1H
BEGIN:VTIMEZONE
TZID:Australia/Perth
BEGIN:STANDARD
TZOFFSETFROM:+0800
TZOFFSETTO:+0800
TZNAME:AWST
DTSTART:20220101T000000
END:STANDARD
END:VTIMEZONE
BEGIN:VEVENT
DTSTART;TZID=Australia/Perth:20230328T100000
DTEND;TZID=Australia/Perth:20230328T120000
DTSTAMP:20260420T095413
CREATED:20221212T024757Z
LAST-MODIFIED:20230228T073746Z
UID:8331-1679997600-1680004800@www.injurymatters.org.au
SUMMARY:Falls and cardiac health: The link and the risks
DESCRIPTION:Older adults with cardiovascular disease are at an increased risk of falling\, leading to injury. However\, the link and the common risk factors between cardiovascular health and falls is not well understood in clinical practice. Injury Matters is hosting an online webinar for health professionals who work with older adults to better understand the importance and common risk factors to look out for with heart health and falls\, as well as the screening tools used to help identify and mitigate the risk of falling in older adult clients with heart conditions. Helen McLean from the Heart Foundation WA along with a range of speakers will be presenting online in this two-hour webinar. \nRegister here \nThe webinar aims to: \n\nIncrease knowledge of the link between cardiac health and falls in older adults\nIncrease awareness of the common risk factors of falls and cardiac health\, especially in Aboriginal communities in WA\nIncrease skills in appropriately using screening tools to mitigate falls risk as well as ensuring optimal heart health.\n\nWho should attend? \nThe webinar is aimed at allied and clinical health nurses\, aged care staff\, Aboriginal health workers\, and public health advocates passionate about healthy ageing. \n 
URL:https://www.injurymatters.org.au/event/falls-and-cardiac-health-the-link-and-the-risks/
LOCATION:Online
CATEGORIES:Stay On Your Feet
ATTACH;FMTTYPE=image/jpeg:https://www.injurymatters.org.au/wp-content/uploads/2022/12/Diverse-Group-Older-Adults-Jog-e1671586944153.jpg
ORGANIZER;CN="Stay On Your Feet%C2%AE":MAILTO:info@injurymatters.org.au
END:VEVENT
END:VCALENDAR