BEGIN:VCALENDAR
VERSION:2.0
PRODID:-//Injury Matters - ECPv6.15.20//NONSGML v1.0//EN
CALSCALE:GREGORIAN
METHOD:PUBLISH
X-WR-CALNAME:Injury Matters
X-ORIGINAL-URL:https://www.injurymatters.org.au
X-WR-CALDESC:Events for Injury Matters
REFRESH-INTERVAL;VALUE=DURATION:PT1H
X-Robots-Tag:noindex
X-PUBLISHED-TTL:PT1H
BEGIN:VTIMEZONE
TZID:Australia/Perth
BEGIN:STANDARD
TZOFFSETFROM:+0800
TZOFFSETTO:+0800
TZNAME:AWST
DTSTART:20220101T000000
END:STANDARD
END:VTIMEZONE
BEGIN:VEVENT
DTSTART;TZID=Australia/Perth:20230208T100000
DTEND;TZID=Australia/Perth:20230208T130000
DTSTAMP:20260420T090537
CREATED:20230125T014356Z
LAST-MODIFIED:20230901T053610Z
UID:8796-1675850400-1675861200@www.injurymatters.org.au
SUMMARY:Peer Education Session
DESCRIPTION:Do you want to become an active member of your community\, while helping others? \nTalk to us about what it takes to become a Volunteer Peer Educator and book into our next training session\, Wed 8th February from 10am – 1pm. \nVolunteering gives you the opportunity to meet people\, learn new skills\, help others\, take on new challenges and use your skills and experience in a positive way. \nSome of the benefits of volunteering at Injury Matters include: \n\nLearning new skills;\nMeeting new people;\nEducating peers and giving back to the community;\nFree training including public speaking and Cultural Awareness;\nMaking friends!\n\nCall Sandy Duxbury on 6166 7688  or email: info@injurymatters.org.au to find out more about the role and bookings for the training sessions.
URL:https://www.injurymatters.org.au/event/peer-education-session/
LOCATION:Injury Matters\, 2/297 VINCENT STREET\, Leederville\, Western Australia\, 6007\, Australia
CATEGORIES:Injury Matters,Stay On Your Feet
ATTACH;FMTTYPE=image/jpeg:https://www.injurymatters.org.au/wp-content/uploads/2023/01/210817_SOYF_PeerEducationEventFBHeader-e1674611098776.jpg
ORGANIZER;CN="Injury Matters":MAILTO:info@injurymatters.org.au
END:VEVENT
END:VCALENDAR