BEGIN:VCALENDAR
VERSION:2.0
PRODID:-//Injury Matters - ECPv6.15.20//NONSGML v1.0//EN
CALSCALE:GREGORIAN
METHOD:PUBLISH
X-ORIGINAL-URL:https://www.injurymatters.org.au
X-WR-CALDESC:Events for Injury Matters
REFRESH-INTERVAL;VALUE=DURATION:PT1H
X-Robots-Tag:noindex
X-PUBLISHED-TTL:PT1H
BEGIN:VTIMEZONE
TZID:Australia/Perth
BEGIN:STANDARD
TZOFFSETFROM:+0800
TZOFFSETTO:+0800
TZNAME:AWST
DTSTART:20220101T000000
END:STANDARD
END:VTIMEZONE
BEGIN:VEVENT
DTSTART;TZID=Australia/Perth:20230131T100000
DTEND;TZID=Australia/Perth:20230131T110000
DTSTAMP:20260419T104553
CREATED:20221121T073047Z
LAST-MODIFIED:20221121T073217Z
UID:8189-1675159200-1675162800@www.injurymatters.org.au
SUMMARY:Veer off vaping - advocating for e-cigarette regulation in WA webinar
DESCRIPTION:E-cigarettes have been readily available globally since 2006. Nicotine is an extremely toxic substance\, with liquid nicotine used in e-cigarettes posing a serious risk for young children in our society. If the popularity and access to e-cigarettes were to increase in Western Australia without legislative intervention and regulation\, injuries from e-cigarettes would undoubtedly increase in both occurrence and severity. To talk through the use of e-cigarettes\, its link to injury\, and the advocacy strategies that are currently underway in WA\, we will hear from the Make Smoking History team at Cancer Council WA in this one-hour online webinar hosted by Injury Matters. \nThis session aims to: \n\nIncrease knowledge of the link between vaping and injury\nIncrease awareness of current regulations on e-cigarettes in WA\nIncrease confidence in advocating for harm reduction with e-cigarette use in young people\n\nWho should attend? \nThis webinar is aimed at public health advocates\, health promotion professionals\, representatives from schools\, Not-for-profit or Local Government bodies\, metro health services and health professionals working in youth services\, organisations or programs. \nRegister here
URL:https://www.injurymatters.org.au/event/veer-off-vaping-advocating-for-e-cigarette-regulation-in-wa-webinar/
LOCATION:Online
CATEGORIES:Know Injury
ATTACH;FMTTYPE=image/jpeg:https://www.injurymatters.org.au/wp-content/uploads/2022/11/Cigarette-Vaping-Smoke-Black.jpg
END:VEVENT
END:VCALENDAR