BEGIN:VCALENDAR
VERSION:2.0
PRODID:-//Injury Matters - ECPv6.15.20//NONSGML v1.0//EN
CALSCALE:GREGORIAN
METHOD:PUBLISH
X-WR-CALNAME:Injury Matters
X-ORIGINAL-URL:https://www.injurymatters.org.au
X-WR-CALDESC:Events for Injury Matters
REFRESH-INTERVAL;VALUE=DURATION:PT1H
X-Robots-Tag:noindex
X-PUBLISHED-TTL:PT1H
BEGIN:VTIMEZONE
TZID:Australia/Perth
BEGIN:STANDARD
TZOFFSETFROM:+0800
TZOFFSETTO:+0800
TZNAME:AWST
DTSTART:20210101T000000
END:STANDARD
END:VTIMEZONE
BEGIN:VEVENT
DTSTART;TZID=Australia/Perth:20220602T180000
DTEND;TZID=Australia/Perth:20220602T200000
DTSTAMP:20260422T104218
CREATED:20220301T054057Z
LAST-MODIFIED:20220310T074750Z
UID:4638-1654192800-1654200000@www.injurymatters.org.au
SUMMARY:A Lens on Falls: Vision and falls prevention among older adults
DESCRIPTION:As people age\, it is common for their visual function to decrease\, which is associated with an increased risk of falling. Older adults with vision loss are twice as likely to fall than older adults without vision loss. Vision plays a key role in the balance and control required to carry out daily activities with older adults relying more heavily on visual information to maintain their balance. Good vision also allows older adults to identify hazards or obstacles in their environment and navigate safely around them. \nInjury Matters\, through the Stay On Your Feet® program\, and in partnership with Vision Australia WA\, are hosting a 2-hour interactive training workshop for health professionals on vision and falls prevention in older adults. The workshop aims for health professionals to better understand how poor or reduced vision affects falls in older adults and to increase their knowledge in effective strategies to reduce falls. \nThis workshop aims to: \n\nIncrease knowledge of risk factors for falls in older adults and age-related eye conditions\nIncrease knowledge of prevention strategies for vision impairment among older adults\nIncrease knowledge of interventions to reduce falls risk among older adults with vision impairment\nIncrease skills in using appropriate vision technology to reduce the risk of falls in older adults with vision impairment\nIncrease knowledge of effective eye health service delivery across regional and remote areas\nIncrease skills in using Telehealth to provide eye services to older adults in rural and remote areas.\n\nInjury Matters Cancellation and Refund Policy \nParticipants may request a refund or transfer their registration to another person if they are unable to attend. Cancellation or requests to transfer registration to another person must be received in writing via email info@stayonyourfeet.org.au\nNon-attendance or cancellations received within two (2) working days of the start of the workshop will incur the full fee. \nIf you are experiencing financial hardship but would like to attend this workshop\, please contact info@stayonyourfeet.org.au so we can accommodate for your needs. \n  \n \n  \nRegister Here
URL:https://www.injurymatters.org.au/event/a-lens-on-falls-vision-and-falls-prevention-among-older-adults/
LOCATION:Bendat Parent & Community Centre\, 36 Dodd Street\, Wembley\, WA\, 6014\, Australia
CATEGORIES:Stay On Your Feet
ATTACH;FMTTYPE=image/jpeg:https://www.injurymatters.org.au/wp-content/uploads/2022/03/pexels-victor-freitas-865711-scaled.jpg
ORGANIZER;CN="Stay On Your Feet%C2%AE":MAILTO:info@injurymatters.org.au
END:VEVENT
BEGIN:VEVENT
DTSTART;VALUE=DATE:20220615
DTEND;VALUE=DATE:20220623
DTSTAMP:20260422T104218
CREATED:20220207T010615Z
LAST-MODIFIED:20220310T074828Z
UID:4495-1655251200-1655942399@www.injurymatters.org.au
SUMMARY:Tai Chi for Arthritis: A Falls Prevention Instructor Training
DESCRIPTION:Tai Chi for Arthritis is a 2-day instructor training program designed by Dr Paul Lam to help prevent falls in older adults. \nTai Chi for Arthritis is a program designed by Dr Paul Lam and a team of medical specialists and Tai Chi experts. Based on the Sun style of Tai Chi\, Tai Chi for Arthritis Prevention is easy to learn\, effective and safe. Tai Chi for Arthritis is an evidence-based program that works to prevent falls by improving balance\, confidence and muscular strength in older adults. This two-day workshop will equip you with the necessary skills to facilitate your own Tai Chi classes and will be hosted by Sam Sujatna. \nDuring the workshop you will: \n\nDevelop knowledge and skill around the principles and forms of Tai Chi\nDevelop knowledge of how Tai Chi helps to improve health and arthritis and reduce the risk of falls.\nLearn the Tai Chi for Arthritis set\nLearn how to teach the program effectively and safely using Dr Lam’s stepwise progressive teaching methods.\n\nThe workshop is held on the 15th of June (9 am – 5 pm) and the 22nd of June (9 am – 5 pm) AWST. You need to attend BOTH FULL DAYS to successfully complete this training. Spots are limited\, so please make sure you can commit to BOTH days before registering your interest. \nRegister Here \nFood will be provided. This training includes the provision of the Teaching Tai Chi Effectively book as well as Tai Chi for Arthritis DVD.
URL:https://www.injurymatters.org.au/event/tai-chi-for-arthritis-a-falls-prevention-instructor-training/
LOCATION:Coogee Community Hall\, 19 Arlington Loop\, Coogee\, WA\, 6166\, Australia
CATEGORIES:Stay On Your Feet
ATTACH;FMTTYPE=image/jpeg:https://www.injurymatters.org.au/wp-content/uploads/2022/02/tai-chi-in-the-park.jpg
ORGANIZER;CN="Stay On Your Feet%C2%AE":MAILTO:info@injurymatters.org.au
END:VEVENT
BEGIN:VEVENT
DTSTART;TZID=Australia/Perth:20220615T100000
DTEND;TZID=Australia/Perth:20220615T120000
DTSTAMP:20260422T104218
CREATED:20220315T064440Z
LAST-MODIFIED:20220316T002856Z
UID:4714-1655287200-1655294400@www.injurymatters.org.au
SUMMARY:Dive into the data: Injury Epidemiology Online Workshop
DESCRIPTION:The role of epidemiology in public health has come to light recently due to the COVID-19 pandemic. However\, epidemiological information has always been a core construct of injury prevention due to its ability to characterise the occurrence of injury\, identify at-risk population groups and assist in evaluating injury prevention strategies. \nHow do we access and interpret epidemiological data? \nWA injury prevention practitioners are fortunate to have access to multiple sources of epidemiological data to assist in quantifying the impact of injury on the community\, however it can be challenging to interpret the various forms of data available. \nJoin Injury Matters with guest facilitator Dr Lauren Fortington\, from Edith Cowan University\, for the Dive into the data: Injury Epidemiology Online Workshop. Lauren is a Senior Research Fellow in injury epidemiology at ECU and a member of the Australasian Epidemiological Association. \nDuring the workshop Lauren will share her knowledge regarding interpreting epidemiological data\, to enable participants to understand the core constructs of data and apply it to their role. \nThis online workshop aims to: \n\nIncrease knowledge of the role of epidemiology in injury prevention.\nIncrease skills in interpreting epidemiological injury data.\nIncrease knowledge of how to access WA injury data.\nIncrease confidence to use epidemiological data to influence injury prevention initiatives.\n\nWho can attend? \nThis online workshop is suitable for anyone looking to clarify or grow their ability to interpret injury epidemiological data\, including; public health practitioners\, health promotion professionals\, local government workers\, WA Country Health staff\, recent environmental science graduates or undergraduate health science students. \nOnline workshop access requirements\nThis interactive workshop will be run on the Zoom Meeting Platform and will involve being placed in a breakout room to participate in a group activity and discussions. To take part in this workshop you will need: \n\nAccess to a reliable internet connection.\nA device with both a camera and microphone.\n\nRegister here
URL:https://www.injurymatters.org.au/event/injury-epidemiology-online-workshop/
LOCATION:Online
CATEGORIES:Know Injury
ATTACH;FMTTYPE=image/jpeg:https://www.injurymatters.org.au/wp-content/uploads/2022/03/pexels-sl-wong-950902.jpg
ORGANIZER;CN="Know Injury":MAILTO:info@injurymatters.org.au
END:VEVENT
BEGIN:VEVENT
DTSTART;TZID=Australia/Perth:20220621T110000
DTEND;TZID=Australia/Perth:20220621T123000
DTSTAMP:20260422T104218
CREATED:20220405T064526Z
LAST-MODIFIED:20220516T063158Z
UID:4842-1655809200-1655814600@www.injurymatters.org.au
SUMMARY:How To: Alcohol Action Planning for Local Governments
DESCRIPTION:Local Governments play a key role in alcohol policies and injury prevention programs in WA\, however the idea of developing an Alcohol Action Plan can be daunting. Join Injury Matters as we hear from guest presenter Linda Parsons\, Senior Health Promotion Officer and Colby McGuire\, Health Promotion Coordinator at the East Metropolitan Health Service\, as they share the importance of an Alcohol Action Plan\, with the process involved and evidence on what works. We will also hear from guest presenters Assunta Di Francesco\, Health Promotion Coordinator at the East Metropolitan Health Service\, Magdalene Lannary at the City of Gosnells\, Coordinator Health and Compliance and Ellie Robinson at the City of Canning\, Senior Environmental Health Officer share learnings\, reflections and achievements of their involvement in the Armadale\, Canning and Gosnells Local Drug Action Group and the process of updating their Cities of Armadale\, Canning and Gosnells Alcohol Action Plan 2019-2022. Organisation support is key\, and as such we will hear from a range of speakers including Cancer Council WA and Mental Health Commission who are key partners in the process. \nThis webinar aims to: \n\nIncrease knowledge of the importance of an Alcohol Action Plan for Local Government bodies in relation to injury prevention\nIncrease awareness of the process and challenges that come with developing an Alcohol Action Plan\nIncrease skill in producing an alcohol and drug action plan for local government bodies in WA\nIncreased knowledge of the relevant resources and stakeholders to develop an Alcohol Action Plan for a Local Government body\n\nRegister here
URL:https://www.injurymatters.org.au/event/how-to-alcohol-action-planning-for-local-governments/
LOCATION:Online
CATEGORIES:Know Injury
ATTACH;FMTTYPE=image/jpeg:https://www.injurymatters.org.au/wp-content/uploads/2022/04/pexels-laura-tancredi-7083961-scaled.jpg
ORGANIZER;CN="Know Injury":MAILTO:info@injurymatters.org.au
END:VEVENT
BEGIN:VEVENT
DTSTART;TZID=Australia/Perth:20220629T130000
DTEND;TZID=Australia/Perth:20220629T140000
DTSTAMP:20260422T104218
CREATED:20220616T025856Z
LAST-MODIFIED:20220616T025856Z
UID:6137-1656507600-1656511200@www.injurymatters.org.au
SUMMARY:Building Support in Preventing Violence in WA
DESCRIPTION:This free bite-sized webinar from the Local Government Community Safety Network will provide a local focus on violence prevention following the launch of the Our Watch Local Government violence prevention toolkit. \nSpeakers\n\nKatie Moynan works in the role of Specialist Practice Development & Research at Preventing Violence\nTogether\, a collaboration co-chaired by the Centre for Women’s Safety and Stopping Family Violence\,\ntwo established\, state-wide organisations with a shared purpose of supporting women and children\nexperiencing family\, domestic and sexual violence\, to be safe and free from violence. Having professionally\nsupported victim survivors of family\, domestic and sexual violence for many years\, Katie is passionate\nabout shifting the culture that permits violence to occur in the first place.\nCr Chontelle Stone is a passionate advocate for community participation\, engagement and connectivity.\nIn 2017\, Chontelle was elected to the City of Cockburn where she has been contributing to creating an\nenvironment of social inclusion. As President of the Australian Local Government Women’s Association\nWA Branch Chontelle developed the Stand Up program aimed at increasing female representation on\nLocal Government Councils.\n\nThere will be opportunity to share any initiatives your LG are doing to prevent violence. If you are interested in sharing\, please contact Vikki Barlow VBarlow@walga.asn.au \nRegister
URL:https://www.injurymatters.org.au/event/building-support-in-preventing-violence-in-wa/
LOCATION:Online
CATEGORIES:Injury Matters
ATTACH;FMTTYPE=image/jpeg:https://www.injurymatters.org.au/wp-content/uploads/2022/05/LG-Community-Safety-Network.jpg
END:VEVENT
END:VCALENDAR