BEGIN:VCALENDAR
VERSION:2.0
PRODID:-//Injury Matters - ECPv6.15.20//NONSGML v1.0//EN
CALSCALE:GREGORIAN
METHOD:PUBLISH
X-WR-CALNAME:Injury Matters
X-ORIGINAL-URL:https://www.injurymatters.org.au
X-WR-CALDESC:Events for Injury Matters
REFRESH-INTERVAL;VALUE=DURATION:PT1H
X-Robots-Tag:noindex
X-PUBLISHED-TTL:PT1H
BEGIN:VTIMEZONE
TZID:Australia/Perth
BEGIN:STANDARD
TZOFFSETFROM:+0800
TZOFFSETTO:+0800
TZNAME:AWST
DTSTART:20210101T000000
END:STANDARD
END:VTIMEZONE
BEGIN:VEVENT
DTSTART;TZID=Australia/Perth:20220504T090000
DTEND;TZID=Australia/Perth:20220504T120000
DTSTAMP:20260422T120619
CREATED:20220301T040533Z
LAST-MODIFIED:20220405T064614Z
UID:4634-1651654800-1651665600@www.injurymatters.org.au
SUMMARY:Through the Looking Glass: Engaging Multicultural Communities within Injury Prevention and Safety Promotion online workshop
DESCRIPTION:WA has a rapidly increasing multicultural population\, consisting of a variety of different multicultural communities\, each with their own unique identity and experiences. The unique demographics of multicultural communities in WA add to the complexity of the contributing factors which can increase the risk of injury within multicultural communities. The three leading injury areas affecting people from multicultural communities in WA are drowning\, intentional self-harm\, and violence. With a number of health programs out there already tackling these prevalent issues\, how do we better engage with multicultural communities to address these areas of concern? \nJoin Injury Matters as Deborah Pyatt\, a training consultant with 30 years of experience working with diverse communities\, will be facilitating this interactive and engaging workshop. This training aims to build the capacity of health and community professionals to increase understanding of the impact of key cultural aspects in multicultural communities in WA to better engage\, plan\, and implement programs and services which target injury prevention and safety promotion. \nThis online workshop training aims to: \n\nIncrease awareness of the leading causes of injury within the multicultural community in WA.\nIncrease knowledge of the barriers multicultural communities face in accessing appropriate services.\nIncrease knowledge of the underlying cultural\, social and psychosocial factors that influence injury within multicultural communities.\nIncrease skills in applying culturally inclusive practices for accessible and appropriate health programs and service delivery for the WA multicultural community.\n\nWho can attend? \nThis training is suitable for health professionals working in local government\, not-for-profits/community sector\, mental health\, public health\, and aged care that want to engage with diverse communities in their health programs. \nOnline workshop access requirements\nThis interactive workshop will be run on the Zoom Meeting Platform and will involve being placed in a breakout room to participate in group case study reviews and discussions. To take part in this workshop you will need: \n\nAccess to a reliable internet connection\nA device with both a camera and microphone\n\nRegister Here
URL:https://www.injurymatters.org.au/event/through-the-looking-glass-engaging-multicultural-communities-within-injury-prevention-and-safety-promotion-online-workshop/
LOCATION:Online
CATEGORIES:Know Injury
ATTACH;FMTTYPE=image/jpeg:https://www.injurymatters.org.au/wp-content/uploads/2022/03/pexels-fauxels-3184418-scaled.jpg
END:VEVENT
BEGIN:VEVENT
DTSTART;TZID=Australia/Perth:20220505T100000
DTEND;TZID=Australia/Perth:20220505T113000
DTSTAMP:20260422T120619
CREATED:20220315T015751Z
LAST-MODIFIED:20220315T024705Z
UID:4703-1651744800-1651750200@www.injurymatters.org.au
SUMMARY:Ready\, willing\, and able: Motivational interviewing in falls prevention practice
DESCRIPTION:How do we influence behaviour change in falls prevention practice? \nMotivational interviewing is a communication style for strengthening client personal motivation and commitment to change. Motivational interviewing is a valuable tool for health professionals working with older adult clients who are resistant about change and provides workers with strategies and skills to support clients to implement meaningful behaviour change. \nJoin Injury Matters with guest facilitator Professor Moira Sim\, from Edith Cowan University\, for the Ready\, willing\, and able: Motivational interviewing in falls prevention practice online workshop. This training will explore motivational interviewing as a behaviour change strategy in falls prevention among older adults and aims to increase participant skills in applying a motivational interviewing approach within their own role. \nThis online workshop aims to: \n\nIncrease awareness of motivational interviewing as a behaviour change strategy in falls prevention among older adults.\nIncrease knowledge of the key processes in motivational interviewing with older adult clients.\nIncrease skills in applying motivational interviewing techniques within a falls prevention context.\nIncrease confidence in applying a motivational interviewing approach within own role.\n\nWho can attend? \nThis online workshop is suitable for health professionals who work closely with older adults such as practice nurses\, health care workers\, nutritionists and dieticians\, occupational therapists\, aged care workers\, physiotherapists and exercise physiologists\, social workers\, carers and support workers\, health promotion and public health practitioners. \nOnline workshop access requirements\nThis interactive workshop will be run on the Zoom Meeting Platform and will involve being placed in a breakout room to participate in group case study reviews and discussions. To take part in this workshop you will need: \n\nAccess to a reliable internet connection\nA device with both a camera and microphone\n\nRegister here
URL:https://www.injurymatters.org.au/event/ready-willing-and-able-motivational-interviewing-in-falls-prevention-practice/
LOCATION:Online
CATEGORIES:Stay On Your Feet
ATTACH;FMTTYPE=image/jpeg:https://www.injurymatters.org.au/wp-content/uploads/2022/03/pexels-marcus-aurelius-6787761-1-scaled.jpg
ORGANIZER;CN="Stay On Your Feet%C2%AE":MAILTO:info@injurymatters.org.au
END:VEVENT
BEGIN:VEVENT
DTSTART;TZID=Australia/Perth:20220510T100000
DTEND;TZID=Australia/Perth:20220510T113000
DTSTAMP:20260422T120619
CREATED:20220330T074043Z
LAST-MODIFIED:20220408T072917Z
UID:4815-1652176800-1652182200@www.injurymatters.org.au
SUMMARY:Let's talk about violence in WA
DESCRIPTION:Violence is a growing issue in Western Australia\, with 17\,134 hospitalisations due to assault and people aged 25 – 44 having the highest incidence of hospitalisations due to assault. Join Injury Matters and a range of professionals while we explore topics such as family and domestic violence and elder abuse\, while hearing about a smoking cessation and violence prevention pilot program trialled at Royal Perth Hospital. We will hear from: \n\nLisa Jones from Lifeline WA on Family and Domestic Violence\nLouise Forster from Advocare on Elder Abuse\nHolly Scott and Rachel Wixon from East Metro Health Service on the Royal Perth Hospital Violence Prevention Pilot Project.\n\nLearn more about the work being done in this space\, and ways that you can advocate for safer environments in WA. \nThis webinar training aims to: \n\nIncrease knowledge of trends in violence in Western Australia\nIncrease awareness of violence advocacy areas in WA\nIncrease knowledge of violence services\, support\, resources\, and referral pathways available in WA\n\nThis webinar is suitable for Local Government community safety workers\,  advocates and policy officers\, health promotion and public health professionals\, WA Police\, family and domestic violence organisations/women’s refuges/support services\, country and regional health services\, and Aboriginal health services and organisations. \nRegister here
URL:https://www.injurymatters.org.au/event/lets-talk-about-violence-in-wa/
LOCATION:Online
CATEGORIES:Know Injury
ATTACH;FMTTYPE=image/jpeg:https://www.injurymatters.org.au/wp-content/uploads/2022/03/MicrosoftTeams-image-4.jpg
ORGANIZER;CN="Know Injury":MAILTO:info@injurymatters.org.au
END:VEVENT
BEGIN:VEVENT
DTSTART;TZID=Australia/Perth:20220517T100000
DTEND;TZID=Australia/Perth:20220517T113000
DTSTAMP:20260422T120619
CREATED:20220405T043043Z
LAST-MODIFIED:20220509T051040Z
UID:4832-1652781600-1652787000@www.injurymatters.org.au
SUMMARY:What are we doing to prevent injury in the WA community?
DESCRIPTION:The impact that injury has on all Western Australians reinforces the importance of focusing on the preventable and predictable nature of injury and the need to make injury prevention a priority. The wide range of health areas within injury further contributes to the need for an integrated approach to injury prevention by a range of health sectors. As a health professional\, understanding the range of initiatives that already exist\, and advocacy areas that need further attention\, is vital for affective and sustainable public health programs. Join Injury Matters as we hear from leaders within the injury prevention space on topics that range from poisoning and drowning prevention to alcohol harm reduction. We will hear from: \n\nRachel Murray on Drowning Prevention RLSWA\nKristen Jamieson on Child Injuries Kidsafe WA\nJulia Stafford on reducing harm by cheap alcohol Cancer Council WA\n\nLearn more about the work being done in this space\, and ways that you can advocate for injury prevention in WA. \nThis webinar training aims to: \n\n\n\nIncreased knowledge of trends in injury in Western Australia\nIncreased awareness of injury prevention advocacy areas in WA\nIncreased knowledge of injury prevention services\, programs\, and resources available in WA\n\n\n\nWho should attend? \nThis webinar training is suitable for people working in Local Governments\, as advocates and policy officers\, in the field of Health Promotion and Public Health\, and for health professionals in Country and Regional Health Services\, and Aboriginal Health Services and organisations. \nRegister here
URL:https://www.injurymatters.org.au/event/what-are-we-doing-to-prevent-injury-in-the-wa-community/
LOCATION:Online
CATEGORIES:Know Injury
ATTACH;FMTTYPE=image/jpeg:https://www.injurymatters.org.au/wp-content/uploads/2022/04/pexels-belle-co-1000445.jpg
ORGANIZER;CN="Know Injury":MAILTO:info@injurymatters.org.au
END:VEVENT
BEGIN:VEVENT
DTSTART;TZID=Australia/Perth:20220525T100000
DTEND;TZID=Australia/Perth:20220525T120000
DTSTAMP:20260422T120619
CREATED:20220315T062310Z
LAST-MODIFIED:20220512T052227Z
UID:4711-1653472800-1653480000@www.injurymatters.org.au
SUMMARY:Getting started with Co-Design
DESCRIPTION:Delivering successful projects in the community relies on building trust and engaging in a meaningful way with stakeholders and partners. Co-design is about creating with stakeholders to ensure the results meet their needs and are usable. \nJoin Injury Matters as Olivia O’Conner\, a consultant with experience in evidence-based collaboration and consultation as she delivers this workshop on getting started with Co-design. This engaging and interactive webinar is designed to inspire ideas and allow discussion on translating theory into action. The training aims to build the capacity of health and community professionals to use Co-design principles\, while overcoming barriers such as time and funding constraints. \n*Please note: this event is now free to attend. This was updated from a ticketed event\, and all previous ticket holders are in the process of receiving refunds. \nThe online workshop training aims to: \n\nIncreased knowledge of Co-design principles and when they should be used\nIncreased awareness of barriers to good Co-design and strategies to overcome these barriers\nIncreased skills in applying Co-design principles in program development\nIncreased confidence to use Co-design in program development and to engage Stakeholders and partners.\n\nWho can attend? \nThis training is suitable for health professionals working in local government\, not-for-profit/community sector\, mental health\, public health and regional organisations that want to improve their collaboration and engagement with Stakeholders and partners. \nOnline workshop access requirements \nThis interactive workshop will be run on the Zoom Meeting Platform and will involve being placed in a breakout room to participate in group case study reviews and discussions. To take part in this workshop you will need: \n\nAccess to a reliable internet connection\nA device with both a camera and microphone\n\nRegister here
URL:https://www.injurymatters.org.au/event/getting-started-with-co-design/
LOCATION:Online
CATEGORIES:Know Injury
ATTACH;FMTTYPE=image/jpeg:https://www.injurymatters.org.au/wp-content/uploads/2022/03/pexels-fauxels-3184639-scaled.jpg
ORGANIZER;CN="Know Injury":MAILTO:info@injurymatters.org.au
END:VEVENT
END:VCALENDAR