BEGIN:VCALENDAR
VERSION:2.0
PRODID:-//Injury Matters - ECPv6.15.20//NONSGML v1.0//EN
CALSCALE:GREGORIAN
METHOD:PUBLISH
X-ORIGINAL-URL:https://www.injurymatters.org.au
X-WR-CALDESC:Events for Injury Matters
REFRESH-INTERVAL;VALUE=DURATION:PT1H
X-Robots-Tag:noindex
X-PUBLISHED-TTL:PT1H
BEGIN:VTIMEZONE
TZID:Australia/Perth
BEGIN:STANDARD
TZOFFSETFROM:+0800
TZOFFSETTO:+0800
TZNAME:AWST
DTSTART:20210101T000000
END:STANDARD
END:VTIMEZONE
BEGIN:VEVENT
DTSTART;TZID=Australia/Perth:20220127T180000
DTEND;TZID=Australia/Perth:20220127T200000
DTSTAMP:20260424T162152
CREATED:20211119T071914Z
LAST-MODIFIED:20211215T050639Z
UID:3259-1643306400-1643313600@www.injurymatters.org.au
SUMMARY:Medication and Falls In Older Adults Workshop
DESCRIPTION:In Australia\, it is estimated that 30% of people aged over 65 years living in the community sustain a fall at least once a year\, whilst in an aged-care facility\, 50% of residents experience one. \nFalls can result from a multitude of factors\, such as the use of medicines. Some medicines can produce different side effects such as drowsiness\, confusion\, blurred vision\, dizziness\, and postural hypotension\, which can all contribute and increase the risk of a falls incident. There are many negative effects that a fall can have on an individual (both acute and chronic)\, including pain and injury as well as psychological impacts such as anxiety\, a decrease in confidence and the development of a fear of falling\, all of which can lead to a loss of independence. \nDue to the magnitude of the issue\, it is important for pharmacists to be able to recognise and identify a patient who may be at higher risk for falls and feel confident in addressing this issue. \nInjury Matters\, through the Stay On Your Feet® program\, will deliver a 2-hour training workshop on ‘Medication and falls in older adults’ with presenters Dr Andrew Stafford and Dr Tin Fei Sim. The workshop will provide participants with the knowledge and confidence to identify and assess for falls risk in older adults and recommend the appropriate interventions. \nThis workshop aims to: \n\nIncreased knowledge of common medicines that can increase the risk of falls.\nIncreased knowledge in deprescribing for falls risk and what the current evidence suggests.\nIncreased skill in identifying patients who may have an increased risk of fall and discussing ways to prevent these.\nIncreased confidence in discussing medicines as a risk factor for falls.\nIncreased knowledge in identifying falls risk screening tools currently used in the Australian healthcare setting.\nIncrease confidence in discussing the role of pharmacists in reducing falls risks in older adults.\n\n \nThis workshop is aimed at pharmacy students\, early career and practising pharmacists. \nThis activity has been accredited for 1.5 hours of Group 1 CPD (or 1.5 CPD credit) suitable for inclusion in an individual pharmacist’s CPD plan\, which can be converted to 1.5 hours of Group 2 CPD (or 3.0 CPD credits) upon successful completion of relevant assessment activities. \nRegister here
URL:https://www.injurymatters.org.au/event/medication-and-falls-in-older-adults-workshop/
LOCATION:Curtin University (Room 118\, Building 108)\, Kent Street\, Bentley\, WA\, Australia
CATEGORIES:Stay On Your Feet
ATTACH;FMTTYPE=image/jpeg:https://www.injurymatters.org.au/wp-content/uploads/2021/11/medication-spill.jpeg
ORGANIZER;CN="Stay On Your Feet%C2%AE":MAILTO:info@injurymatters.org.au
END:VEVENT
END:VCALENDAR