BEGIN:VCALENDAR
VERSION:2.0
PRODID:-//Injury Matters - ECPv6.15.20//NONSGML v1.0//EN
CALSCALE:GREGORIAN
METHOD:PUBLISH
X-WR-CALNAME:Injury Matters
X-ORIGINAL-URL:https://www.injurymatters.org.au
X-WR-CALDESC:Events for Injury Matters
REFRESH-INTERVAL;VALUE=DURATION:PT1H
X-Robots-Tag:noindex
X-PUBLISHED-TTL:PT1H
BEGIN:VTIMEZONE
TZID:Australia/Perth
BEGIN:STANDARD
TZOFFSETFROM:+0800
TZOFFSETTO:+0800
TZNAME:AWST
DTSTART:20200101T000000
END:STANDARD
END:VTIMEZONE
BEGIN:VEVENT
DTSTART;TZID=Australia/Perth:20210629T100000
DTEND;TZID=Australia/Perth:20210629T110000
DTSTAMP:20260421T034613
CREATED:20210521T031658Z
LAST-MODIFIED:20210628T045213Z
UID:1112-1624960800-1624964400@www.injurymatters.org.au
SUMMARY:Emerging Issues in Alcohol Policy Webinar
DESCRIPTION:Join Injury Matters and the Cancer Council WA as we explore the emerging issues in alcohol policy and what needs to be achieved in alcohol policy in the next 3 years. \nCancer Council WA’s Alcohol Policy and Research Coordinator’s\, Danica Keric and Hannah Pierce\, will discuss alcohol policy priority areas\, why they matter\, what organisations can do to progress action\, and how we can work together to create action. \nRegister
URL:https://www.injurymatters.org.au/event/emerging-issues-in-alcohol-policy-webinar/
LOCATION:WA
CATEGORIES:Know Injury
ATTACH;FMTTYPE=image/jpeg:https://www.injurymatters.org.au/wp-content/uploads/2021/05/pexels-photo-325521.jpeg
END:VEVENT
BEGIN:VEVENT
DTSTART;TZID=Australia/Perth:20210610T100000
DTEND;TZID=Australia/Perth:20210610T110000
DTSTAMP:20260421T034613
CREATED:20210521T032510Z
LAST-MODIFIED:20210521T032510Z
UID:1120-1623319200-1623322800@www.injurymatters.org.au
SUMMARY:Understanding family carers falls concern and their management of older adults falls risks at home Webinar
DESCRIPTION:With Western Australia’s ageing population\, family carers are increasingly becoming essential support in falls prevention and care delivery for older adults living in the community. Carers’ concerns for older adults’ falls risk\, can have a severe impact on the psychological well-being and ability of family carers to prevent falls. Falls prevention programs that include family carers contribute to significant improvement in falls risk awareness and knowledge in carers and their care recipients. However\, maladaptive caring strategies adopted by carers could lead to dependence and increasing risk of falling among older adults at home. \nJoin Injury Matters for the ‘Understanding family carers fall concern and their management of older adults fall risks at home webinar’. A presentation will be provided by Marcus Ang\, Edith Cowan University who will discuss issues that contribute to concerns of family carers regarding risk of falling and the strategies they use to prevent older adults from falling at home.
URL:https://www.injurymatters.org.au/event/understanding-family-carers-falls-concern-and-their-management-of-older-adults-falls-risks-at-home-webinar/
LOCATION:WA
CATEGORIES:Stay On Your Feet
ATTACH;FMTTYPE=image/jpeg:https://www.injurymatters.org.au/wp-content/uploads/2021/05/clasped-hands-comfort-hands-people-45842.jpeg
ORGANIZER;CN="Stay On Your Feet%C2%AE":MAILTO:info@injurymatters.org.au
END:VEVENT
BEGIN:VEVENT
DTSTART;TZID=Australia/Perth:20210603T100000
DTEND;TZID=Australia/Perth:20210603T110000
DTSTAMP:20260421T034613
CREATED:20210521T032045Z
LAST-MODIFIED:20210521T032045Z
UID:1115-1622714400-1622718000@www.injurymatters.org.au
SUMMARY:Scooter-related Injuries Webinar
DESCRIPTION:Transport injuries are a leading cause of hospitalisations and fatalities in Western Australia. The variety in our transport routes\, demographics and preference for physical activity results in the use of differing transportation devices. \nJoin Injury Matters and the Australasian Injury Prevention Network for the ‘Scooter Safety Webinar’. This webinar will focus on some of these high-risk transportation devices by exploring the incidence of injury due to e-scooter and mobility scooter use. Special guests and experts in the space\, Professor Joan Ozanne-Smith and Professor Kristen Vallmuur will join us to share their expertise. \nProfessor Joan Ozanne-Smith heads the Injury Prevention Research Unit at Monash University’s Department of Forensic Medicine. Joan has worked to reduce the incidence of mobility scooter-related injuries\, with special interest in policy to improve mobility scooter safety. \nProfessor Kirsten Vallmuur is the Chair of Trauma Surveillance and Data Analytics in the School of Public Health and Social Work at the Queensland University of Technology. Kirsten has conducted extensive research into the safety of e-scooters as they emerge as a common means of transportation. \nThis webinar will provide participants with knowledge of: \n\nThe incidence of injury due to e-scooters.\nThe incidence of injury due to mobility scooters.\nThe key risk factors associated with using scooters.\nKey prevention initiatives required to reduce the incidence of injury among scooter users.\n\nThis webinar is delivered by Injury Matters via the Know Injury program. Know Injury\, funded through the WA Department of Health\, is a state-wide program aimed at preventing injury in WA.
URL:https://www.injurymatters.org.au/event/scooter-related-injuries-webinar/
LOCATION:WA
CATEGORIES:Know Injury
ATTACH;FMTTYPE=image/jpeg:https://www.injurymatters.org.au/wp-content/uploads/2021/05/lime-new-zealand-electric-scooters-auckland-christchurch-2.jpg
ORGANIZER;CN="Know Injury":MAILTO:info@injurymatters.org.au
END:VEVENT
BEGIN:VEVENT
DTSTART;TZID=Australia/Perth:20210205T100000
DTEND;TZID=Australia/Perth:20210205T113000
DTSTAMP:20260421T034613
CREATED:20210104T045118Z
LAST-MODIFIED:20210127T074844Z
UID:128-1612519200-1612524600@www.injurymatters.org.au
SUMMARY:Injury Prevention Network
DESCRIPTION:Program : Injury Matters \nType : Forum \nTime : During working hours(10:00 am – 11:30 am) \nLocation : Injury Matters or via Zoom \nRegion : Metropolitan\nThe Injury Prevention Network provides practitioners across WA with an opportunity to connect with each other to share learnings and solutions in injury prevention\, community safety and recovery. \n 
URL:https://www.injurymatters.org.au/event/injurypreventionnetworkfeb/
LOCATION:WA
CATEGORIES:Know Injury
ORGANIZER;CN="Cat Wold":MAILTO:cwold@injurymatters.org.au
END:VEVENT
END:VCALENDAR