BEGIN:VCALENDAR
VERSION:2.0
PRODID:-//Injury Matters - ECPv6.15.20//NONSGML v1.0//EN
CALSCALE:GREGORIAN
METHOD:PUBLISH
X-ORIGINAL-URL:https://www.injurymatters.org.au
X-WR-CALDESC:Events for Injury Matters
REFRESH-INTERVAL;VALUE=DURATION:PT1H
X-Robots-Tag:noindex
X-PUBLISHED-TTL:PT1H
BEGIN:VTIMEZONE
TZID:Australia/Perth
BEGIN:STANDARD
TZOFFSETFROM:+0800
TZOFFSETTO:+0800
TZNAME:AWST
DTSTART:20230101T000000
END:STANDARD
END:VTIMEZONE
BEGIN:VEVENT
DTSTART;TZID=Australia/Perth:20260317T080000
DTEND;TZID=Australia/Perth:20260320T170000
DTSTAMP:20260422T215824
CREATED:20251209T023402Z
LAST-MODIFIED:20251209T023504Z
UID:18973-1773734400-1774026000@www.injurymatters.org.au
SUMMARY:Great Southern
DESCRIPTION:Road Trauma Support WA (RTSWA) will be visiting the Great Southern region including Albany and Katanning\, from 17 to 20 March 2026.\nOur team is committed to connecting with local communities\, services\, and professionals to learn more about the impacts of road trauma in the region and share the support available through RTSWA. \nIf you’d like to meet with us during our visit or learn more about our services\, we encourage you to get in touch. We’d welcome the opportunity to connect.
URL:https://www.injurymatters.org.au/event/great-southern-2/
CATEGORIES:Road Trauma Support WA,Travel
ATTACH;FMTTYPE=image/webp:https://www.injurymatters.org.au/wp-content/uploads/2025/12/1268364_631177816921911_215631463_o-e1765247682868.webp
END:VEVENT
BEGIN:VEVENT
DTSTART;TZID=Australia/Perth:20260217T080000
DTEND;TZID=Australia/Perth:20260219T170000
DTSTAMP:20260422T215824
CREATED:20260128T062222Z
LAST-MODIFIED:20260128T062222Z
UID:19207-1771315200-1771520400@www.injurymatters.org.au
SUMMARY:South West
DESCRIPTION:Road Trauma Support WA (RTSWA) will be visiting the South West region including Bunbury\, from Tuesday 17th to Thursday 19th February 2026.\nOur team is committed to connecting with local communities\, services\, and professionals to learn more about the impacts of road trauma in the region and share the support available through RTSWA. \nIf you’d like to meet with us during our visit or learn more about our services\, we encourage you to get in touch on (08) 6166 7688 or admin@rtswa.org.au. We’d welcome the opportunity to connect.
URL:https://www.injurymatters.org.au/event/south-west-6/
LOCATION:Bunbury\, 6230
CATEGORIES:Travel
ATTACH;FMTTYPE=image/webp:https://www.injurymatters.org.au/wp-content/uploads/2026/01/bunbury.webp
END:VEVENT
BEGIN:VEVENT
DTSTART;TZID=Australia/Perth:20260210T080000
DTEND;TZID=Australia/Perth:20260212T170000
DTSTAMP:20260422T215824
CREATED:20260128T061757Z
LAST-MODIFIED:20260128T061757Z
UID:19202-1770710400-1770915600@www.injurymatters.org.au
SUMMARY:Midwest
DESCRIPTION:Road Trauma Support WA (RTSWA) will be visiting the Midwest region- Carnarvon from 10 to 12 February 2026.\nOur team is committed to connecting with local communities\, services\, and professionals to learn more about the impacts of road trauma in the region and share the support available through RTSWA. \nIf you’d like to meet with us during our visit or learn more about our services\, we encourage you to get in touch on (08) 6166 7688 or admin@rtswa.org.au. We’d welcome the opportunity to connect.
URL:https://www.injurymatters.org.au/event/midwest-2/
LOCATION:Carnarvon\, 6701
CATEGORIES:Travel
ATTACH;FMTTYPE=image/jpeg:https://www.injurymatters.org.au/wp-content/uploads/2026/01/carnavon.jpg
END:VEVENT
BEGIN:VEVENT
DTSTART;TZID=Australia/Perth:20251105T080000
DTEND;TZID=Australia/Perth:20251109T170000
DTSTAMP:20260422T215824
CREATED:20250820T010400Z
LAST-MODIFIED:20250820T010409Z
UID:17959-1762329600-1762707600@www.injurymatters.org.au
SUMMARY:Kimberley
DESCRIPTION:Road Trauma Support WA will be visiting the Kimberly (Broome) this November. If you or your organisation are interested in meeting with us\, or would like to learn more about our free education and training opportunities\, we’d love to hear from you. Please reach out at admin@rtswa.org.au to connect while we’re in the region.
URL:https://www.injurymatters.org.au/event/kimberley-2/
LOCATION:Broome\, 6725
CATEGORIES:Road Trauma Support WA,Travel
ATTACH;FMTTYPE=image/jpeg:https://www.injurymatters.org.au/wp-content/uploads/2025/08/broome.jpg
END:VEVENT
BEGIN:VEVENT
DTSTART;TZID=Australia/Perth:20251104T080000
DTEND;TZID=Australia/Perth:20251106T170000
DTSTAMP:20260422T215824
CREATED:20250923T052026Z
LAST-MODIFIED:20250923T052026Z
UID:18368-1762243200-1762448400@www.injurymatters.org.au
SUMMARY:South West
DESCRIPTION:Road Trauma Support WA will be visiting the South West (Busselton) this November. If you or your organisation are interested in meeting with us\, or would like to learn more about our free education and training opportunities\, we’d love to hear from you. Please reach out at admin@rtswa.org.au to connect while we’re in the region.
URL:https://www.injurymatters.org.au/event/south-west-5/
LOCATION:Busselton\, 6280
CATEGORIES:Road Trauma Support WA,Travel
ATTACH;FMTTYPE=image/webp:https://www.injurymatters.org.au/wp-content/uploads/2025/09/busso1.webp
END:VEVENT
BEGIN:VEVENT
DTSTART;TZID=Australia/Perth:20251028T080000
DTEND;TZID=Australia/Perth:20251029T170000
DTSTAMP:20260422T215824
CREATED:20250820T010024Z
LAST-MODIFIED:20250820T010103Z
UID:17954-1761638400-1761757200@www.injurymatters.org.au
SUMMARY:South West
DESCRIPTION:Road Trauma Support WA will be visiting the South West (Busselton) this October. If you or your organisation are interested in meeting with us\, or would like to learn more about our free education and training opportunities\, we’d love to hear from you. Please reach out at admin@rtswa.org.au to connect while we’re in the region.
URL:https://www.injurymatters.org.au/event/south-west-4/
LOCATION:Busselton\, 6280
CATEGORIES:Road Trauma Support WA,Travel
ATTACH;FMTTYPE=image/jpeg:https://www.injurymatters.org.au/wp-content/uploads/2025/08/licensed-image.jpg
END:VEVENT
BEGIN:VEVENT
DTSTART;TZID=Australia/Perth:20251015T080000
DTEND;TZID=Australia/Perth:20251016T170000
DTSTAMP:20260422T215824
CREATED:20250923T052447Z
LAST-MODIFIED:20250923T052447Z
UID:18371-1760515200-1760634000@www.injurymatters.org.au
SUMMARY:North West Wheatbelt
DESCRIPTION:Road Trauma Support WA will be visiting the Cervantes this October. If you or your organisation are interested in meeting with us\, or would like to learn more about our free education and training opportunities\, we’d love to hear from you. Please reach out at admin@rtswa.org.au to connect while we’re in the region.
URL:https://www.injurymatters.org.au/event/north-west-wheatbelt/
LOCATION:Cervantes\, 6511
CATEGORIES:Road Trauma Support WA,Travel
ATTACH;FMTTYPE=image/jpeg:https://www.injurymatters.org.au/wp-content/uploads/2025/09/Cervantes.jpg
END:VEVENT
BEGIN:VEVENT
DTSTART;TZID=Australia/Perth:20250731T080000
DTEND;TZID=Australia/Perth:20250731T170000
DTSTAMP:20260422T215824
CREATED:20250514T092351Z
LAST-MODIFIED:20250514T092351Z
UID:16856-1753948800-1753981200@www.injurymatters.org.au
SUMMARY:Wheatbelt
DESCRIPTION:Road Trauma Support WA will be travelling to the Wheatbelt\, Brookton in July\, to deliver a community information session. \nIf you would like to meet with the team or whilst we are in the region don’t hesitate to get in touch on 1300 004 814 or admin@rtswa.org.au.
URL:https://www.injurymatters.org.au/event/wheatbelt-4/
LOCATION:Brookton\, 6306
CATEGORIES:Road Trauma Support WA,Travel
ATTACH;FMTTYPE=image/jpeg:https://www.injurymatters.org.au/wp-content/uploads/2025/05/old-historical-town-in-e1747214277379.jpg
END:VEVENT
BEGIN:VEVENT
DTSTART;TZID=Australia/Perth:20250618T080000
DTEND;TZID=Australia/Perth:20250620T170000
DTSTAMP:20260422T215824
CREATED:20250312T055139Z
LAST-MODIFIED:20250312T055139Z
UID:16129-1750233600-1750438800@www.injurymatters.org.au
SUMMARY:Wheatbelt
DESCRIPTION:Road Trauma Support WA will be travelling to the Wheatbelt\, Lake Grace in June\, to deliver a workshop and meet with local stakeholders. \nIf you would like to meet with the team or whilst we are in the region don’t hesitate to get in touch on 1300 004 814 or admin@rtswa.org.au.
URL:https://www.injurymatters.org.au/event/wheatbelt-3/
LOCATION:Lake Grace\, 6353
CATEGORIES:Road Trauma Support WA,Travel
ATTACH;FMTTYPE=image/jpeg:https://www.injurymatters.org.au/wp-content/uploads/2025/03/lake-grace.jpg
END:VEVENT
BEGIN:VEVENT
DTSTART;TZID=Australia/Perth:20250527T080000
DTEND;TZID=Australia/Perth:20250529T170000
DTSTAMP:20260422T215824
CREATED:20240822T042238Z
LAST-MODIFIED:20250226T012946Z
UID:14284-1748332800-1748538000@www.injurymatters.org.au
SUMMARY:Kimberley
DESCRIPTION:More information coming soon.
URL:https://www.injurymatters.org.au/event/kimberley/
LOCATION:Kununurra\, 6743
CATEGORIES:Road Trauma Support WA,Travel
ATTACH;FMTTYPE=image/jpeg:https://www.injurymatters.org.au/wp-content/uploads/2024/08/Kununurra.jpg
END:VEVENT
BEGIN:VEVENT
DTSTART;TZID=Australia/Perth:20250318T080000
DTEND;TZID=Australia/Perth:20250321T170000
DTSTAMP:20260422T215824
CREATED:20250108T043610Z
LAST-MODIFIED:20250226T013117Z
UID:15481-1742284800-1742576400@www.injurymatters.org.au
SUMMARY:South West
DESCRIPTION:Road Trauma Support WA will be travelling to the South West including Busselton\, Dunsborough and Margaret River to deliver workshops and meet with local stakeholders from Wednesday 19th March to Thursday 20 March 2025. \nIf you would like to meet with the team or whilst we are in the region don’t hesitate to get in touch on 1300 004 814 or admin@rtswa.org.au.
URL:https://www.injurymatters.org.au/event/south-west-3/
LOCATION:Bunbury\, Busselton and Margaret River
CATEGORIES:Road Trauma Support WA,Travel
ATTACH;FMTTYPE=image/jpeg:https://www.injurymatters.org.au/wp-content/uploads/2025/01/pexels-rossogston-16219938.jpg
END:VEVENT
BEGIN:VEVENT
DTSTART;TZID=Australia/Perth:20250226T080000
DTEND;TZID=Australia/Perth:20250227T170000
DTSTAMP:20260422T215824
CREATED:20241203T011004Z
LAST-MODIFIED:20241203T011004Z
UID:15173-1740556800-1740675600@www.injurymatters.org.au
SUMMARY:South West
DESCRIPTION:The Recovery Support Team will be travelling to Bunbury in the South West to support RAC Project Road Smart on Wednesday 26th and Thursday 27th of February 2025. \nIf you would like to meet with the team whilst we are in the region don’t hesitate to get in touch with1300 004 814 or admin@rtswa.org.au.
URL:https://www.injurymatters.org.au/event/south-west-2/
LOCATION:Bunbury\, 6230
CATEGORIES:Road Trauma Support WA,Travel
ATTACH;FMTTYPE=image/jpeg:https://www.injurymatters.org.au/wp-content/uploads/2024/12/Bunbury.jpg
END:VEVENT
BEGIN:VEVENT
DTSTART;TZID=Australia/Perth:20241118T080000
DTEND;TZID=Australia/Perth:20241120T170000
DTSTAMP:20260422T215824
CREATED:20240716T040021Z
LAST-MODIFIED:20241017T053310Z
UID:13904-1731916800-1732122000@www.injurymatters.org.au
SUMMARY:Pilbara
DESCRIPTION:Injury Matters will travel to the Pilbara including Port Hedland to deliver information sessions for emergency responders\, hospital staff and the community and meet with stakeholders. \nIf you would like our team to meet with your community or organisation don’t hesitate to contact us at info@injurymatters.org.au or (08) 6166 7688.
URL:https://www.injurymatters.org.au/event/pilbara/
LOCATION:Port Hedland\, 6721
CATEGORIES:Road Trauma Support WA,Travel
ATTACH;FMTTYPE=image/jpeg:https://www.injurymatters.org.au/wp-content/uploads/2024/07/Porthedland.jpg
END:VEVENT
BEGIN:VEVENT
DTSTART;TZID=Australia/Perth:20241028T080000
DTEND;TZID=Australia/Perth:20241031T170000
DTSTAMP:20260422T215824
CREATED:20240716T035239Z
LAST-MODIFIED:20240822T030312Z
UID:13902-1730102400-1730394000@www.injurymatters.org.au
SUMMARY:Southwest
DESCRIPTION:Injury Matters will travel to the South West including Dunsborough\, Margaret River and surrounds to deliver information sessions for emergency responders and the community and meet with stakeholders. \nIf you would like our team to meet with your community or organisation don’t hesitate to contact us at info@injurymatters.org.au or (08) 6166 7688.
URL:https://www.injurymatters.org.au/event/southwest/
LOCATION:Dunsborough\, 6281
CATEGORIES:Road Trauma Support WA,Travel
ATTACH;FMTTYPE=image/jpeg:https://www.injurymatters.org.au/wp-content/uploads/2024/07/dunsborough-hero.jpg
END:VEVENT
BEGIN:VEVENT
DTSTART;VALUE=DATE:20241015
DTEND;VALUE=DATE:20241018
DTSTAMP:20260422T215824
CREATED:20241002T050149Z
LAST-MODIFIED:20241002T053249Z
UID:14695-1728950400-1729209599@www.injurymatters.org.au
SUMMARY:Great Southern
DESCRIPTION:Injury Matters will travel to the Great Southern\, including Albany and Lake Grace\, to deliver Stay On Your Feet® community education sessions and events\, workforce development workshops\, and meetings with stakeholders. \nIf you would like our team to meet with your community or organisation\, don’t hesitate to contact us at info@injurymatters.org.au or (08) 6166 7688.
URL:https://www.injurymatters.org.au/event/great-southern/
LOCATION:Albany and Lake Grace
CATEGORIES:Travel
ATTACH;FMTTYPE=image/jpeg:https://www.injurymatters.org.au/wp-content/uploads/2024/10/Farm-Canola-Rural-scaled.jpg
END:VEVENT
BEGIN:VEVENT
DTSTART;VALUE=DATE:20240828
DTEND;VALUE=DATE:20240829
DTSTAMP:20260422T215824
CREATED:20240822T030900Z
LAST-MODIFIED:20240822T031017Z
UID:14280-1724803200-1724889599@www.injurymatters.org.au
SUMMARY:Wheatbelt
DESCRIPTION:Injury Matters will travel to the Wheatbelt to attend Dowerin Field Day 2024. \n 
URL:https://www.injurymatters.org.au/event/wheatbelt-2/
LOCATION:Dowerin\, 6461
CATEGORIES:Road Trauma Support WA,Travel
ATTACH;FMTTYPE=image/jpeg:https://www.injurymatters.org.au/wp-content/uploads/2024/08/Dowerin_Field_Days_2021_19-scaled.jpg
END:VEVENT
BEGIN:VEVENT
DTSTART;TZID=Australia/Perth:20240805T080000
DTEND;TZID=Australia/Perth:20240807T170000
DTSTAMP:20260422T215824
CREATED:20240618T034900Z
LAST-MODIFIED:20240618T060355Z
UID:13776-1722844800-1723050000@www.injurymatters.org.au
SUMMARY:Midwest
DESCRIPTION:Injury Matters will be travelling to Geraldton in the Midwest to deliver a workshop for emergency responders\, hospital staff and meet with stakeholders. \nIf you would like our team to meet with your community or organisation please contact us at info@injurymatters.org.au or (08) 6166 7688.
URL:https://www.injurymatters.org.au/event/midwest/
LOCATION:Geraldton\, 6530
CATEGORIES:Road Trauma Support WA,Travel
ATTACH;FMTTYPE=image/jpeg:https://www.injurymatters.org.au/wp-content/uploads/2024/06/Geradlton.jpg
END:VEVENT
BEGIN:VEVENT
DTSTART;TZID=Australia/Perth:20240702T080000
DTEND;TZID=Australia/Perth:20240703T170000
DTSTAMP:20260422T215824
CREATED:20240416T080202Z
LAST-MODIFIED:20240416T080202Z
UID:13237-1719907200-1720026000@www.injurymatters.org.au
SUMMARY:South West
DESCRIPTION:Injury Matters will be travelling to Harvey in the South West to deliver a workshop for emergency responders and meet with stakeholders. \nIf you would like our team to meet with your community or organisation please contact us at info@injurymatters.org.au or (08) 6166 7688.
URL:https://www.injurymatters.org.au/event/south-west/
LOCATION:Harvey\, 6220
CATEGORIES:Road Trauma Support WA,Travel
END:VEVENT
BEGIN:VEVENT
DTSTART;VALUE=DATE:20240627
DTEND;VALUE=DATE:20240628
DTSTAMP:20260422T215824
CREATED:20231221T005610Z
LAST-MODIFIED:20240319T003333Z
UID:12359-1719446400-1719532799@www.injurymatters.org.au
SUMMARY:Wheatbelt
DESCRIPTION:The Road Trauma Support team will be travelling to Beverley in the Wheatbelt to deliver the ‘Introduction to Road Trauma Support Information Session’ for the Beverley community. The session will be delivered on Thursday 27th June from 11.00am to 12.00pm at the Beverley Community Resource Centre and will help you get better informed on how you can utilise the Road Trauma Support Service to support yourself and others. \nRSVP to Alyssa Szekeres\, marketing@beverleycrc.com.au / 08 9646 1600. \nIf you would like our team to meet with your community or organisation\, and hear how we can support people impacted by a road incident\, deliver a presentation or workshop and/or attend an event\, please contact us at admin@rtswa.org.au or 1300 004 814 (freecall).
URL:https://www.injurymatters.org.au/event/beverley-wheatbelt/
LOCATION:Beverley\, 6304
CATEGORIES:Travel
ATTACH;FMTTYPE=image/jpeg:https://www.injurymatters.org.au/wp-content/uploads/2023/12/Vincent_Street_Beverley_2018_01.jpg
END:VEVENT
BEGIN:VEVENT
DTSTART;TZID=Australia/Perth:20240529T080000
DTEND;TZID=Australia/Perth:20240530T170000
DTSTAMP:20260422T215824
CREATED:20240321T055001Z
LAST-MODIFIED:20240321T055001Z
UID:13084-1716969600-1717088400@www.injurymatters.org.au
SUMMARY:Wheatbelt
DESCRIPTION:Injury Matters will be travelling to Kulin in the Wheatbelt to deliver a community workshop and meet with Stakeholders. \nIf you would like our team to meet with your community or organisation please contact us at info@injurymatters.org.au or (08) 6166 7688.
URL:https://www.injurymatters.org.au/event/wheatbelt/
LOCATION:Kulin\, 6365
CATEGORIES:Road Trauma Support WA,Travel
ATTACH;FMTTYPE=image/jpeg:https://www.injurymatters.org.au/wp-content/uploads/2024/03/Kulin.jpg
END:VEVENT
BEGIN:VEVENT
DTSTART;TZID=Australia/Perth:20240429T080000
DTEND;TZID=Australia/Perth:20240502T170000
DTSTAMP:20260422T215824
CREATED:20240321T053952Z
LAST-MODIFIED:20240321T054547Z
UID:13079-1714377600-1714669200@www.injurymatters.org.au
SUMMARY:Goldfields
DESCRIPTION:Injury Matters will be travelling to Kalgoorlie in the Goldfields to deliver workshops and community presentations\, meet with Stakeholders and attend local community events. The team will also be visiting Coolgardie while we are in the region. \nIf you would like our team to meet with your community or organisation  please contact us at info@injurymatters.org.au or (08) 6166 7688.
URL:https://www.injurymatters.org.au/event/goldfields/
LOCATION:Kalgoorlie\, 6430
CATEGORIES:Know Injury,Road Trauma Support WA,Stay On Your Feet,Travel
ATTACH;FMTTYPE=image/jpeg:https://www.injurymatters.org.au/wp-content/uploads/2024/03/Kalgoorlie-e1710999549613.jpg
ORGANIZER;CN="Injury Matters":MAILTO:info@injurymatters.org.au
END:VEVENT
BEGIN:VEVENT
DTSTART;VALUE=DATE:20240227
DTEND;VALUE=DATE:20240301
DTSTAMP:20260422T215824
CREATED:20231214T014534Z
LAST-MODIFIED:20240104T024205Z
UID:12309-1708992000-1709251199@www.injurymatters.org.au
SUMMARY:South West
DESCRIPTION:Join the Road Trauma Support Team as we travel to the South West to raise awareness about the impact of road trauma in the region. The team will be supporting RAC Project Road Smart Bunbury on Wednesday 28th and Thursday 29th of February. If you would like our team to meet with your community or organisation\, and hear how we can support people impacted by a road incident\, deliver a presentation or workshop and/or attend an event\, please contact us at admin@rtswa.org.au or 1300 004 814 (freecall).
URL:https://www.injurymatters.org.au/event/rac-project-road-smart/
LOCATION:Bunbury\, 6230
CATEGORIES:Travel
ATTACH;FMTTYPE=image/jpeg:https://www.injurymatters.org.au/wp-content/uploads/2023/12/68_20181112_ASW_Bunbury-Melo-Velo-Makers-and-co-Lighthouse.jpg
END:VEVENT
BEGIN:VEVENT
DTSTART;VALUE=DATE:20240214
DTEND;VALUE=DATE:20240216
DTSTAMP:20260422T215824
CREATED:20231214T012807Z
LAST-MODIFIED:20240215T001613Z
UID:12299-1707868800-1708041599@www.injurymatters.org.au
SUMMARY:Wheatbelt (postponed)
DESCRIPTION:The Road Trauma Support team will be travelling to Kulin in the Wheatbelt to deliver the ‘After a Crash: Supporting Yourself and Other Workshop’ for the Kulin community. The workshop will be delivered on Thursday 15th February from 9.00am to 12.00pm at the Fairbairn Recreation Centre. RSVP to Belle Brandis\, rcmgr@kulin.wa.gov.au / 08 9880 1204. If you would like to meet with the team whilst we are in the region please get in touch with us on 6166 7688 or admin@rtswa.org.au.
URL:https://www.injurymatters.org.au/event/after-a-road-crash-supporting-yourself-and-others-community-workshop/
LOCATION:Kulin\, 6365
CATEGORIES:Road Trauma Support WA,Travel
ATTACH;FMTTYPE=image/jpeg:https://www.injurymatters.org.au/wp-content/uploads/2023/12/food-sunset-love-field.jpg
END:VEVENT
END:VCALENDAR