BEGIN:VCALENDAR
VERSION:2.0
PRODID:-//Injury Matters - ECPv6.15.20//NONSGML v1.0//EN
CALSCALE:GREGORIAN
METHOD:PUBLISH
X-ORIGINAL-URL:https://www.injurymatters.org.au
X-WR-CALDESC:Events for Injury Matters
REFRESH-INTERVAL;VALUE=DURATION:PT1H
X-Robots-Tag:noindex
X-PUBLISHED-TTL:PT1H
BEGIN:VTIMEZONE
TZID:Australia/Perth
BEGIN:STANDARD
TZOFFSETFROM:+0800
TZOFFSETTO:+0800
TZNAME:AWST
DTSTART:20240101T000000
END:STANDARD
END:VTIMEZONE
BEGIN:VEVENT
DTSTART;TZID=Australia/Perth:20251104T080000
DTEND;TZID=Australia/Perth:20251106T170000
DTSTAMP:20260423T050156
CREATED:20250923T052026Z
LAST-MODIFIED:20250923T052026Z
UID:18368-1762243200-1762448400@www.injurymatters.org.au
SUMMARY:South West
DESCRIPTION:Road Trauma Support WA will be visiting the South West (Busselton) this November. If you or your organisation are interested in meeting with us\, or would like to learn more about our free education and training opportunities\, we’d love to hear from you. Please reach out at admin@rtswa.org.au to connect while we’re in the region.
URL:https://www.injurymatters.org.au/event/south-west-5/
LOCATION:Busselton\, 6280
CATEGORIES:Road Trauma Support WA,Travel
ATTACH;FMTTYPE=image/webp:https://www.injurymatters.org.au/wp-content/uploads/2025/09/busso1.webp
END:VEVENT
BEGIN:VEVENT
DTSTART;TZID=Australia/Perth:20251105T080000
DTEND;TZID=Australia/Perth:20251109T170000
DTSTAMP:20260423T050156
CREATED:20250820T010400Z
LAST-MODIFIED:20250820T010409Z
UID:17959-1762329600-1762707600@www.injurymatters.org.au
SUMMARY:Kimberley
DESCRIPTION:Road Trauma Support WA will be visiting the Kimberly (Broome) this November. If you or your organisation are interested in meeting with us\, or would like to learn more about our free education and training opportunities\, we’d love to hear from you. Please reach out at admin@rtswa.org.au to connect while we’re in the region.
URL:https://www.injurymatters.org.au/event/kimberley-2/
LOCATION:Broome\, 6725
CATEGORIES:Road Trauma Support WA,Travel
ATTACH;FMTTYPE=image/jpeg:https://www.injurymatters.org.au/wp-content/uploads/2025/08/broome.jpg
END:VEVENT
END:VCALENDAR