BEGIN:VCALENDAR
VERSION:2.0
PRODID:-//Injury Matters - ECPv6.15.20//NONSGML v1.0//EN
CALSCALE:GREGORIAN
METHOD:PUBLISH
X-ORIGINAL-URL:https://www.injurymatters.org.au
X-WR-CALDESC:Events for Injury Matters
REFRESH-INTERVAL;VALUE=DURATION:PT1H
X-Robots-Tag:noindex
X-PUBLISHED-TTL:PT1H
BEGIN:VTIMEZONE
TZID:Australia/Perth
BEGIN:STANDARD
TZOFFSETFROM:+0800
TZOFFSETTO:+0800
TZNAME:AWST
DTSTART:20240101T000000
END:STANDARD
END:VTIMEZONE
BEGIN:VEVENT
DTSTART;TZID=Australia/Perth:20251118T133000
DTEND;TZID=Australia/Perth:20251118T153000
DTSTAMP:20260422T080638
CREATED:20251021T031959Z
LAST-MODIFIED:20251023T015935Z
UID:18619-1763472600-1763479800@www.injurymatters.org.au
SUMMARY:Move Your Body & Flourish!
DESCRIPTION:In partnership with City of Bayswater and COTA WA\, we’re excited to present an engaging expo dedicated to supporting older adults through the Stay On Your Feet® falls prevention program. \nThe event will feature a variety of support services\, informative presentations\, an interactive falls prevention session with an Exercise Physiologist\, strength & balance assessments\, and afternoon tea! \nPresentations\n\nMove Your Body: Discover how you can Move Your Body to stay active and independent as you age. Learn about the physical and emotional impact of falls\, understand your personal risk\, and how doing balance and strength exercises can improve your mobility and reduce the risk of having a fall.\nFlourish! Get the most out of life and outsmarting the Four Horsemen of Ageing.\nExplore the four major threats to healthy ageing — cancer\, heart disease\, type-2 diabetes\, and neurodegenerative disease — and discover straightforward\, evidence-based lifestyle strategies (nutrition\, exercise\, sleep and stress–management) to reduce risks\, improve your health and wellbeing and \, and embrace healthy ageing.\nStrength for Life: Learn about Strength For Life\, an evidence-based progressive strength training and exercise program designed specifically for the over 50’s. It has shown to have a huge impact on wellbeing and quality of life.\n\nActivities\n\nHave your strength and balance assessed by a qualifed Exercise Physiologist\nMove your body with falls prevention exercise session  (please wear clothes and shoes comfortable to move in)\nTalk with vendors providing services in your local area\n\nAfternoon Tea and door prizes!\nResources and information to help you prevent falls\, remain independent\, and Stay On Your Feet® \nREGISTRATIONS ESSENTIAL\nEvent is free to attend\, but bookings essential for catering purposes and close November 10. \nThis event is limited to 70 registrations\, if you can no longer attend please cancel your ticket so that other residents can attend. \nTo register\, head to: Eventbrite and click on “Get tickets” \nDownload a flyer and share with your friends! \n  \n     \n 
URL:https://www.injurymatters.org.au/event/move-your-body-flourish/
LOCATION:The RISE\, 28 Eighth Avenue\, Maylands\, WA\, 6051\, Australia
CATEGORIES:Stay On Your Feet
ATTACH;FMTTYPE=image/jpeg:https://www.injurymatters.org.au/wp-content/uploads/2025/10/https___cdn.evbuc_.com_images_1143376213_287950469edtd-2.jpg
END:VEVENT
BEGIN:VEVENT
DTSTART;TZID=Australia/Perth:20251118T170000
DTEND;TZID=Australia/Perth:20251118T193000
DTSTAMP:20260422T080638
CREATED:20251016T005805Z
LAST-MODIFIED:20251103T033430Z
UID:18586-1763485200-1763494200@www.injurymatters.org.au
SUMMARY:Falls Forum: A WA Perspective on the National Falls Guidelines - Community Care
DESCRIPTION:Join Injury Matters on Tuesday\, 18 November\, for an informative and action-focused forum discussing the newly updated National Falls Guidelines: Community Care\, developed by the Australian Commission on Safety and Quality in Health Care. \nThis event will take a Western Australian lens to the national guidelines\, highlighting initiatives and practical strategies to reduce falls and support healthy ageing in our communities. \nWhat to expect: \n\nInsights from the WA Falls Report\nOverview of the National Falls Guidelines – Community Care\nDetailed overview of key recommendations focusing on: home safety\, exercise\, balance and mobility\, osteoporosis and bone health\nOpportunities to get involved in falls prevention\n\nWho should attend? \nThis event is suitable for anyone working with older adults in the community\, including Physiotherapists\, Occupational Therapists\, Nurses\, Primary Care Practitioners\, Support Workers\, Community Aged Care Workers\, and GPs. \nEvent details:  \n\nTuesday\, 18 November 2025\, 5:00 pm – 7:30 pm\nCost: FREE\nThis is a hybrid event; you can join us in person or online\nIn person: Join us at The Hub\, Bentley Technology Park. Canapes and networking will be available\nOnline: Participants can join via Microsoft Teams\n\nSpeaker details \n\nSuzanne Butler\, General Manager – Injury Prevention: An overview of the National Falls Guidelines\nFaye Baker\, Acting Senior Occupational Therapist & Mandy Peacock\, Occupational Therapist: Best practices and recommendations for Home Safety\nProfessor Anne-Marie Hill\, PhD: Best practice and recommendations for Osteoporosis and Bone Health\nTony Petta\, Senior Falls Physiotherapist: Best practice and recommendations for Exercise\, Balance and Mobility\nHannes Holly: A practical example of an exercise program\n\nIn-person registration \nOnline registration
URL:https://www.injurymatters.org.au/event/stay-on-your-feet-falls-forum-a-wa-perspective-on-the-national-falls-guidelines/
LOCATION:The Hub\, Bentley Technology Park\, 2 Brodie Hall Drive\, Perth\, Western Australia\, 6102\, Australia
CATEGORIES:Stay On Your Feet
ATTACH;FMTTYPE=image/jpeg:https://www.injurymatters.org.au/wp-content/uploads/2025/10/Older-People-Recover-Exercise-Smile-e1760576229888.jpg
ORGANIZER;CN="Stay On Your Feet%C2%AE":MAILTO:info@injurymatters.org.au
END:VEVENT
BEGIN:VEVENT
DTSTART;TZID=Australia/Perth:20260217T110000
DTEND;TZID=Australia/Perth:20260217T140000
DTSTAMP:20260422T080638
CREATED:20251219T001920Z
LAST-MODIFIED:20251223T042900Z
UID:19009-1771326000-1771336800@www.injurymatters.org.au
SUMMARY:Active Balance for Falls Prevention Workshop - AUSactive members only
DESCRIPTION:Balance is the ability to maintain stable and controlled body positions in everyday movements- whether it is walking\, bending over to put shoes on\, driving a car or grocery shopping. Older adults who have impaired balance are at greater risk of experiencing a fall. By improving balance\, we not only promote independence for older adults but we can also prevent falls. Join Injury Matters and AUSactive on Tuesday\, 17 February\, for the “Active Balance for Falls Prevention” half-day workshop. \nUpskill\, and discover what you can do to prevent falls amongst your clients. This workshop will go over: \n\nWhat a fall is and why it is important to try to prevent them.\nHow the ageing process and other health conditions impact on falls risk.\nWhat is normal and abnormal gait\, balance\, strength\, and flexibility and how these may impact on falls risk.\nHow to identify falls risk and implement safety during exercise.\nWhat recommended falls prevention and exercise strategies are\, and how to implement them.\nWhere to find falls prevention resources and help.\n\nWho is this suitable for? \nThis workshop is for AUSactive members only. Please provide your AUSactive membership number when registering. AUSactive members will receive 2 CPD points upon completion. \nCost: FREE \nRegister here
URL:https://www.injurymatters.org.au/event/stay-on-your-feet-active-balance-for-falls-prevention-workshop-ausactive-members-only/
LOCATION:Bendat Parent & Community Centre\, 36 Dodd Street\, Wembley\, WA\, 6014\, Australia
CATEGORIES:Stay On Your Feet
ATTACH;FMTTYPE=image/jpeg:https://www.injurymatters.org.au/wp-content/uploads/2025/01/Diverse-Group-Older-Adults-Stretch-edited.jpg
END:VEVENT
BEGIN:VEVENT
DTSTART;TZID=Australia/Perth:20260227T093000
DTEND;TZID=Australia/Perth:20260227T120000
DTSTAMP:20260422T080638
CREATED:20260108T050707Z
LAST-MODIFIED:20260108T050707Z
UID:19091-1772184600-1772193600@www.injurymatters.org.au
SUMMARY:Let's Connect at a Community Event in Byford!
DESCRIPTION:The Injury Matters team is passionate about helping you live your best life through providing information on falls prevention and healthy\, active ageing through our Stay On Your Feet® program. \nYour health\, independence\, and quality of life matter\, and we’re here to support you through sharing our valuable resources. \nCome and have a chat with us at this community event and discover proven ways to Stay On Your Feet®. \nHealthy Lifestyles 2026\nDate:  Friday\, February 27\nTime:  9.30am to 12.00pm \nLocation: Kingia Function Room\nSerpentine Jarrahdale Community Recreation Centre\, Mead Street\, Byford \nPresented by the Seniors Recreation Council of WA \nRefreshments provided \nRegistrations essential – Phone 08 6118 2716 to book \nDownload the information flyer
URL:https://www.injurymatters.org.au/event/lets-connect-at-a-community-event-in-byford-2/
LOCATION:Serpentine-Jarrahdale Recreation Centre\, Mead Street\, Byford\, WA\, Australia
CATEGORIES:Stay On Your Feet
ATTACH;FMTTYPE=image/jpeg:https://www.injurymatters.org.au/wp-content/uploads/2025/01/220527_SOYF_BeaumontOpenDay4.jpg
END:VEVENT
BEGIN:VEVENT
DTSTART;TZID=Australia/Perth:20260319T100000
DTEND;TZID=Australia/Perth:20260319T130000
DTSTAMP:20260422T080638
CREATED:20260224T033552Z
LAST-MODIFIED:20260227T055905Z
UID:19552-1773914400-1773925200@www.injurymatters.org.au
SUMMARY:Let's Connect at a Community Event in Pearsall\, Wanneroo!
DESCRIPTION:The Injury Matters team is passionate about helping you live your best life through providing information on falls prevention and healthy\, active ageing through our Stay On Your Feet® program. \nYour health\, independence\, and quality of life matter\, and we’re here to support you through sharing our valuable resources. \nCome and have a chat with us at this community event and discover proven ways to Stay On Your Feet®. \nWanneroo Active Ageing Expo 2026\nDate:  Thursday\, March 19\nTime:  10am-1pm \nLocation: Pearsall Hocking Community Centre\n125 Willespie Dr\, Pearsall \nPresented by the Seniors Recreation Council of WA and the City of Wanneroo \nRefreshments provided \nRegistrations essential – Phone 08 6118 2716 to book \n 
URL:https://www.injurymatters.org.au/event/stay-on-your-feet-lets-connect-at-a-community-event-in-pearsall-wanneroo/
LOCATION:Pearsall Hocking Community Centre\, 125 Willespie Drive\, Pearsall\, WA\, Australia
CATEGORIES:Stay On Your Feet
ATTACH;FMTTYPE=image/jpeg:https://www.injurymatters.org.au/wp-content/uploads/2025/01/220527_SOYF_BeaumontOpenDay4.jpg
END:VEVENT
BEGIN:VEVENT
DTSTART;TZID=Australia/Perth:20260324T173000
DTEND;TZID=Australia/Perth:20260324T193000
DTSTAMP:20260422T080638
CREATED:20260204T073740Z
LAST-MODIFIED:20260204T073740Z
UID:19268-1774373400-1774380600@www.injurymatters.org.au
SUMMARY:Understanding Vision: Multidisciplinary Strategies for Falls Prevention - Albany
DESCRIPTION:As people age\, it is common for their visual function to decrease and this is associated with a higher risk of falls. Older adults with vision impairment are twice as likely to fall as those without vision loss. Eye care practitioners and allied health professionals play a key role in preventing falls\, with opportunities for collaboration and referral. \nJoin Injury Matters and UWA for the “Understanding vision: Multidisciplinary strategies for falls prevention” workshop on Tuesday\, 24 March 5:30 pm – 7:30 pm where we will explore: \n\nThe link between vision and falls\nThe role eye care practitioners have in falls prevention\nBarriers and enablers to the implementation of falls advice\nFalls screening in consultation\nReferral pathways and opportunities for collaboration\n\nWho should attend? \nEye care practitioners\, Optometrists\, Ophthalmologists\, Pharmacists\, Podiatrists\, Physiotherapists\, Exercise Physiologists\, Occupational Therapists\, Nurses\, Aged Care Workers and GPs. \nPlease note\, this training will be held in Albany. \nRegister here
URL:https://www.injurymatters.org.au/event/stay-on-your-feet-understanding-vision-multidisciplinary-strategies-for-falls-prevention-albany/
LOCATION:Multipurpose Room\, Albany UWA -RM-710-2.04\, 35 Stirling Terrace\, Albany\, WA\, 6330\, Australia
CATEGORIES:Stay On Your Feet
ATTACH;FMTTYPE=image/jpeg:https://www.injurymatters.org.au/wp-content/uploads/2025/06/Eye-doctor-chart.jpeg
END:VEVENT
BEGIN:VEVENT
DTSTART;TZID=Australia/Perth:20260326T110000
DTEND;TZID=Australia/Perth:20260326T143000
DTSTAMP:20260422T080638
CREATED:20260211T053725Z
LAST-MODIFIED:20260227T055806Z
UID:19326-1774522800-1774535400@www.injurymatters.org.au
SUMMARY:Improve Your Health\, Improve Your Life!
DESCRIPTION:In partnership with City of Swan\, Injury Matters is excited to present an engaging and free community event to help older adults stay independent and age well. \nThe Improve Your Health\, Improve Your Life event is provided through the Stay On Your Feet® falls prevention program. \nCome along and enjoy expert presentations on: \n\nFalls prevention\nPelvic health\nBrain health\nMedication management\nNutritional needs for falls prevention\nPractical aids for daily living\n\nAll aimed to help you reduce your risk for falls. \nThen join us for some fun activities like brain games\, reaction training and chair dance. \nTake home resources and practical aids for daily living will be on display as well. \n**Light lunch and door prizes included** \nPlease register by March 20\, 2026\nTo register head to Humanitix and click on “Register”   Humanitix Booking Link \nMore details are on the Event Flyer download and and share with your friends! \n  \n    \n 
URL:https://www.injurymatters.org.au/event/stay-on-your-feet-improve-your-health-improve-your-life/
LOCATION:Midland Sports Complex\, 45 Patterson Drive\, Middle Swan\, WA\, Australia
CATEGORIES:Stay On Your Feet
ATTACH;FMTTYPE=image/jpeg:https://www.injurymatters.org.au/wp-content/uploads/2026/02/Older-people-workout-hands-up-1920x1281-1.jpg
END:VEVENT
BEGIN:VEVENT
DTSTART;TZID=Australia/Perth:20260422T100000
DTEND;TZID=Australia/Perth:20260422T140000
DTSTAMP:20260422T080638
CREATED:20260401T065417Z
LAST-MODIFIED:20260401T065417Z
UID:19910-1776852000-1776866400@www.injurymatters.org.au
SUMMARY:Let's Connect at a Community Event in Rockingham!
DESCRIPTION:The Injury Matters team is passionate about helping you live your best life through providing information on falls prevention and healthy\, active ageing through our Stay On Your Feet® program. \nYour health\, independence\, and quality of life matter\, and we’re here to support you through sharing our valuable resources. \nCome and have a chat with us at this community event and discover proven ways to Stay On Your Feet®. \nRockingham Have A Go Day\nDate:  Wednesday\, April 22\nTime:  10am-2pm \nLocation: Mike Barnett Sports Complex\nCnr Dixon Road and Louise Street\, Rockingham \nPresented by the Seniors Recreation Council of WA and supported by the City of Rockingham \nA fun day of free activities\, music\, dancing\, food and information sites specifically for seniors!\nFor further information phone: 6118 2716 \nDownload the flyer for details \n \n \n 
URL:https://www.injurymatters.org.au/event/lets-connect-at-a-community-event-in-rockingham-3/
LOCATION:Mike Barnett Sports Complex\, Cnr Dixon Road and Goddard Street\, Roockingham\, WA\, Australia
CATEGORIES:Stay On Your Feet
ATTACH;FMTTYPE=image/jpeg:https://www.injurymatters.org.au/wp-content/uploads/2025/01/220527_SOYF_BeaumontOpenDay4.jpg
END:VEVENT
BEGIN:VEVENT
DTSTART;TZID=Australia/Perth:20260423T100000
DTEND;TZID=Australia/Perth:20260423T110000
DTSTAMP:20260422T080638
CREATED:20260205T020629Z
LAST-MODIFIED:20260227T073939Z
UID:19278-1776938400-1776942000@www.injurymatters.org.au
SUMMARY:Incontinence and Falls in Older Adults Webinar
DESCRIPTION:Incontinence in older adults can be a significant risk factor for falls\, as problems with bowel and bladder control can impact an older person’s ability to stay active\, healthy and independent. Join Injury Matters on Thursday\, 23 April 2026\, from 10:00 am -11:00 am (AWST) for the “Incontinence and falls in older adults” webinar. \nIn this webinar\, we will explore: \n\nWhat is incontinence?\nThe link between incontinence and falls\nIncontinence effects on older adults\nStrategies for management\nScreening\nReferral pathways\n\nWho is this suitable for? \nThis webinar is suitable for anyone who works with older adults in the community\, including Nurses\, Support Workers\, Carers\, Allied Health professionals\, Physiotherapists and Occupational Therapists. \nRegister here
URL:https://www.injurymatters.org.au/event/stay-on-your-feet-incontinence-and-falls-in-older-adults-2/
LOCATION:Online
CATEGORIES:Stay On Your Feet
ATTACH;FMTTYPE=image/jpeg:https://www.injurymatters.org.au/wp-content/uploads/2026/02/centre-for-ageing-better-3ZVOtBZOC7A-unsplash-scaled-e1770257150412.jpg
END:VEVENT
BEGIN:VEVENT
DTSTART;TZID=Australia/Perth:20260430T100000
DTEND;TZID=Australia/Perth:20260430T143000
DTSTAMP:20260422T080638
CREATED:20260401T063225Z
LAST-MODIFIED:20260401T065459Z
UID:19904-1777543200-1777559400@www.injurymatters.org.au
SUMMARY:Let's Connect at a Community Event in Kelmscott!
DESCRIPTION:The Injury Matters team is passionate about helping you live your best life through providing information on falls prevention and healthy\, active ageing through our Stay On Your Feet® program. \nYour health\, independence\, and quality of life matter\, and we’re here to support you through sharing our valuable resources. \nCome and have a chat with us at this community event and discover proven ways to Stay On Your Feet®. \nLet’s Connect Armadale Expo\nDate:  Thursday\, April 30\nTime:  10am-2.30pm \nLocation: Kelmscott Hall\n60 River Road\, Kelmscott \nPresented by the City of Armadale \nFree Food – Free Hearing Tests – Trial Exercise Classes\nDownload the flyer for details of vendors and venue
URL:https://www.injurymatters.org.au/event/lets-connect-at-a-community-event-in-kelmscott/
LOCATION:Kelmscott Hall\, 60 River Road\, Kelmscott\, WA\, Australia
CATEGORIES:Stay On Your Feet
ATTACH;FMTTYPE=image/jpeg:https://www.injurymatters.org.au/wp-content/uploads/2025/01/220527_SOYF_BeaumontOpenDay4.jpg
END:VEVENT
BEGIN:VEVENT
DTSTART;TZID=Australia/Perth:20260526T130000
DTEND;TZID=Australia/Perth:20260526T160000
DTSTAMP:20260422T080638
CREATED:20260414T025656Z
LAST-MODIFIED:20260414T040356Z
UID:20061-1779800400-1779811200@www.injurymatters.org.au
SUMMARY:Active Balance for Falls Prevention Workshop - Geraldton
DESCRIPTION:Balance is the ability to maintain stable and controlled body positions in every day movements- whether it is walking\, bending over to put shoes on\, driving a car or grocery shopping. Older adults who have impaired balance are at greater risk of experiencing a fall. By improving balance\, we not only promote independence for older adults\, but we can also prevent falls. \nJoin Injury Matters on Tuesday\, 26 May 2026\, for the “Active Balance for Falls Prevention” half-day workshop. \nThis workshop will go over: \n\nWhat a fall is and why it is important to try to prevent them.\nHow the ageing process and other health conditions impact on falls risk.\nWhat is normal and abnormal gait\, balance\, strength\, and flexibility and how these may impact on falls risk.\nHow to identify falls risk and implement safety during exercise.\nWhat recommended falls prevention and exercise strategies are and how to implement them.\nWhere to find falls prevention resources and help.\n\nWho is this suitable for? \nThe workshop is aimed at Fitness and Exercise professionals\, Therapy Assistants\, Allied Health Assistants\, Nurses\, Physiotherapists and anyone who wants to learn more about exercises to prevent falls in older adults. \nRegister here
URL:https://www.injurymatters.org.au/event/stay-on-your-feet-active-balance-for-falls-prevention-workshop-geraldton/
LOCATION:Geraldton Health Campus\, 51-85 Shenton Street\, Geraldton\, 6530
CATEGORIES:Stay On Your Feet
ATTACH;FMTTYPE=image/jpeg:https://www.injurymatters.org.au/wp-content/uploads/2025/10/Older-adults-Tai-Chi-e1760576056577.jpg
END:VEVENT
BEGIN:VEVENT
DTSTART;TZID=Australia/Perth:20260528T100000
DTEND;TZID=Australia/Perth:20260528T110000
DTSTAMP:20260422T080638
CREATED:20260402T010248Z
LAST-MODIFIED:20260408T003116Z
UID:19908-1779962400-1779966000@www.injurymatters.org.au
SUMMARY:Understanding Diabetes and Falls Among Aboriginal and Torres Strait Islander People
DESCRIPTION:Diabetes is a health condition that can cause high levels of glucose in the blood. It occurs when the pancreas cannot produce enough insulin or the body becomes resistant to it. Aboriginal and Torres Strait Islander people have higher rates of diabetes\, particularly among older adults. More than one third (34.6%) of Aboriginal and Torres Strait Islander people aged over 55 live with diabetes\, compared to just 5.5% of Aboriginal people aged 18–34. \nFalls are the most common cause of injury leading to hospitalisation among Aboriginal people. Older adults with diabetes have an increased risk of falls\, recurrent falls and the rate of fracture following a fall. In fact\, older adults who have diabetes are twice as likely to have a fall that can result in an injury. \nJoin Injury Matters on 28 May 2026 for the “Understanding Diabetes and Falls Among Aboriginal and Torres Strait Islander People” webinar. \nThis webinar will explore: \n\nDiabetes in Aboriginal and Torres Strait Islander communities\nHow diabetes increases the risk of falling\nFalls risk factors for Aboriginal and Torres Strait Islander people living with diabetes\nScreening tools and assessments\nHow to support Aboriginal and Torres Strait Islander people with diabetes in falls prevention\n\nWho should attend?  \nAnyone who works with Aboriginal and Torres Strait Islander people\, anyone who works with older adults in the community\, Carers\, Support Workers\, Allied Health Professionals\, Occupational Therapists\, Physiotherapists\, Podiatrists\, Eye health professionals\, Nutritionists\, Nurses and Pharmacists. \nRegister here
URL:https://www.injurymatters.org.au/event/stay-on-your-feet-understanding-diabetes-and-falls-among-aboriginal-and-torres-strait-islander-people/
LOCATION:Online
CATEGORIES:Stay On Your Feet
ATTACH;FMTTYPE=image/jpeg:https://www.injurymatters.org.au/wp-content/uploads/2025/12/251210_IM_Banner.jpg
ORGANIZER;CN="Stay On Your Feet%C2%AE":MAILTO:info@injurymatters.org.au
END:VEVENT
END:VCALENDAR