BEGIN:VCALENDAR
VERSION:2.0
PRODID:-//Injury Matters - ECPv6.15.20//NONSGML v1.0//EN
CALSCALE:GREGORIAN
METHOD:PUBLISH
X-ORIGINAL-URL:https://www.injurymatters.org.au
X-WR-CALDESC:Events for Injury Matters
REFRESH-INTERVAL;VALUE=DURATION:PT1H
X-Robots-Tag:noindex
X-PUBLISHED-TTL:PT1H
BEGIN:VTIMEZONE
TZID:Australia/Perth
BEGIN:STANDARD
TZOFFSETFROM:+0800
TZOFFSETTO:+0800
TZNAME:AWST
DTSTART:20250101T000000
END:STANDARD
END:VTIMEZONE
BEGIN:VEVENT
DTSTART;TZID=Australia/Perth:20260527T130000
DTEND;TZID=Australia/Perth:20260527T150000
DTSTAMP:20260421T173539
CREATED:20260416T035547Z
LAST-MODIFIED:20260416T035547Z
UID:20066-1779886800-1779894000@www.injurymatters.org.au
SUMMARY:Recognising and Responding to Elder Abuse in Older Adults Workshop - Geraldton
DESCRIPTION:Elder abuse is a serious public health and social issue\, estimated to effect 1 in 6 older adults in Western Australia. It can take many forms\, including financial\, social\, physical\, sexual\, psychological and emotional abuse\, and neglect\, and can occur in a range of different settings. Elder abuse can have ongoing health impacts on an individual\, such as physical injury\, poor mental health and increased risk of premature entry into residential aged care. \nAs with many forms of abuse\, it can be difficult for an individual experiencing elder abuse to speak out. It is vital that health and community professionals working with older adults in WA carry the skills to recognise and respond to elder abuse to ensure the safety of their clients and provide support to make informed decisions about their ongoing safety and wellbeing. \nJoin Injury Matters\, Advocare and Regional Alliance West for the ‘Recognising and Responding to Elder Abuse in Older Adults’ workshop\, where we will explore: \n\nElder abuse and its impact on older adults\nHow to recognise and respond to elder abuse\nOptions for clients experiencing elder abuse\nThe Elder Abuse Protocol and 5-step approach for action against elder abuse\nUnderstanding patient rights\nRecognising financial abuse from family members\nHow hospital staff can support patients\nAdvocare and how they can assist you\nHow Regional Alliance West can support you\n\nWho should attend? \nThis webinar is for anyone working with older adults\, including home care service providers\, carers and support workers\, community workers\, and health and allied health professionals. \nRegister here
URL:https://www.injurymatters.org.au/event/know-injury-recognising-and-responding-to-elder-abuse-in-older-adults-workshop-geraldton/
LOCATION:Geraldton Health Campus\, 51-85 Shenton Street\, Geraldton\, 6530
CATEGORIES:Know Injury
ATTACH;FMTTYPE=image/jpeg:https://www.injurymatters.org.au/wp-content/uploads/2025/01/Older-Persons-Hands-on-Knee-1.jpeg
END:VEVENT
END:VCALENDAR