BEGIN:VCALENDAR
VERSION:2.0
PRODID:-//Injury Matters - ECPv6.15.20//NONSGML v1.0//EN
CALSCALE:GREGORIAN
METHOD:PUBLISH
X-WR-CALNAME:Injury Matters
X-ORIGINAL-URL:https://www.injurymatters.org.au
X-WR-CALDESC:Events for Injury Matters
REFRESH-INTERVAL;VALUE=DURATION:PT1H
X-Robots-Tag:noindex
X-PUBLISHED-TTL:PT1H
BEGIN:VTIMEZONE
TZID:Australia/Perth
BEGIN:STANDARD
TZOFFSETFROM:+0800
TZOFFSETTO:+0800
TZNAME:AWST
DTSTART:20230101T000000
END:STANDARD
END:VTIMEZONE
BEGIN:VEVENT
DTSTART;TZID=Australia/Perth:20241015T160000
DTEND;TZID=Australia/Perth:20241015T180000
DTSTAMP:20260421T234213
CREATED:20241001T102159Z
LAST-MODIFIED:20241002T035238Z
UID:14674-1729008000-1729015200@www.injurymatters.org.au
SUMMARY:Grant Writing and Evaluation Workshop - Albany
DESCRIPTION:Join Injury Matters for an engaging workshop on Grant Writing and Evaluation to enhance your ability to write grant applications for programs and demonstrate their impact\, featuring case studies from injury prevention programs. This workshop is designed to equip health professionals\, community organisations\, and local governments with the skills and knowledge needed to craft compelling grant applications that align with funder priorities. Additionally\, you will learn how to develop robust evaluation plans that showcase program effectiveness. \nIn this workshop\, you’ll explore different evaluation and data collection methods\, discover how to design effective surveys and learn how to develop measurable project objectives. You will also gain valuable insights into diverse funding options\, strategies for successful grant applications\, and how to align your initiatives for maximum impact. \nLearning Objectives\n\nIncrease knowledge of the structure and key components of grant applications.\nIncrease confidence in preparing and submitting grant applications.\nIncreased awareness of the role of evaluation in health promotion.\nIncreased awareness of different evaluation and data collection methods.\nIncreased skills to develop measurable project objectives.\nIncreased confidence to design surveys.\n\nWho Should Attend\nThis webinar is designed for health professionals\, health promotion officers\, program coordinators\, and those in community organisations or local governments involved in preparing grant applications\, planning projects or conducting program evaluations. \nRegister Here
URL:https://www.injurymatters.org.au/event/grant-writing-and-evaluation-workshop-albany/
LOCATION:Hilton Garden Inn\, 3 Toll Place\, Albany\, Western Australia\, 6330\, Australia
CATEGORIES:Know Injury
ATTACH;FMTTYPE=image/jpeg:https://www.injurymatters.org.au/wp-content/uploads/2024/02/Meeting.jpeg
ORGANIZER;CN="Know Injury":MAILTO:info@injurymatters.org.au
END:VEVENT
END:VCALENDAR