BEGIN:VCALENDAR
VERSION:2.0
PRODID:-//Injury Matters - ECPv6.15.20//NONSGML v1.0//EN
CALSCALE:GREGORIAN
METHOD:PUBLISH
X-WR-CALNAME:Injury Matters
X-ORIGINAL-URL:https://www.injurymatters.org.au
X-WR-CALDESC:Events for Injury Matters
REFRESH-INTERVAL;VALUE=DURATION:PT1H
X-Robots-Tag:noindex
X-PUBLISHED-TTL:PT1H
BEGIN:VTIMEZONE
TZID:Australia/Perth
BEGIN:STANDARD
TZOFFSETFROM:+0800
TZOFFSETTO:+0800
TZNAME:AWST
DTSTART:20220101T000000
END:STANDARD
END:VTIMEZONE
BEGIN:VEVENT
DTSTART;TZID=Australia/Perth:20230913T093000
DTEND;TZID=Australia/Perth:20230913T123000
DTSTAMP:20260424T175512
CREATED:20230811T072319Z
LAST-MODIFIED:20230825T005310Z
UID:11182-1694597400-1694608200@www.injurymatters.org.au
SUMMARY:Engaging with Politics for Injury Prevention
DESCRIPTION:Politics plays a critical role in public health and is an important area to consider when working in the injury prevention sector. This workshop\, designed by Curtin University\, facilitated by Professor Jonathan Hallett\, and in partnership with Injury Matters\, is for WA injury prevention workers in public health\, and explore the different levels of government and the intricate process legislation goes through in our parliament. It emphasises skills needed to effectively engage in advocacy with politicians\, ensuring that the voices of the public health community are heard in the corridors of power. \nCourse Highlights: \nGovernment Structures: Explore the various levels of government in Western Australia\, and how they interconnect\, to gain a holistic understanding of the system you are working within. \nLegislative Processes: Delve into the process of legislation through parliament\, learning the step-by-step process that laws must go through before they are enacted. \nEffective Advocacy: Learn strategies to effectively communicate with politicians and develop the skills to represent public health interests persuasively and responsibly. \nFace-to-Face Workshop: Benefit from a hands-on three-hour workshop in Perth\, where expert facilitators will guide participants through interactive activities and real-world scenarios\, reinforcing key concepts and practices. \nExtended Online Support: Enjoy three months of access to valuable online resources\, including video tutorials\, reading materials\, discussion forums\, and interactive quizzes\, allowing you to continue learning at your own pace. \nWho Should Attend? \nThis course is ideal for public health professionals\, community healthworkers\, policy advocates\, and anyone involved in the injury prevention field in Western Australia looking to start engaging in political advocacy. Whether you’re a seasoned professional or new to the field\, this course will enhance your understanding and ability to navigate the political landscape of public health. \nRegister your spot \nThis Know Injury training\, in collaboration with Curtin University\,  is delivered by Injury Matters and funded by the Western Australian Department of Health.
URL:https://www.injurymatters.org.au/event/know-injury-engaging-with-politics-for-injury-prevention/
LOCATION:137 St Georges Terrace\, Perth WA 6000\, 137 St Georges Terrace\, Perth\, WA\, 6000\, Australia
CATEGORIES:Know Injury
ATTACH;FMTTYPE=image/jpeg:https://www.injurymatters.org.au/wp-content/uploads/2023/08/Politician-speaking-to-audience-scaled.jpg
ORGANIZER;CN="Know Injury":MAILTO:info@injurymatters.org.au
END:VEVENT
END:VCALENDAR